BEGIN:VCALENDAR
VERSION:2.0
PRODID:-//NADI Batu Talam - ECPv6.15.20//NONSGML v1.0//EN
CALSCALE:GREGORIAN
METHOD:PUBLISH
X-WR-CALNAME:NADI Batu Talam
X-ORIGINAL-URL:https://batutalam.nadi.my
X-WR-CALDESC:Events for NADI Batu Talam
REFRESH-INTERVAL;VALUE=DURATION:PT1H
X-Robots-Tag:noindex
X-PUBLISHED-TTL:PT1H
BEGIN:VTIMEZONE
TZID:UTC
BEGIN:STANDARD
TZOFFSETFROM:+0000
TZOFFSETTO:+0000
TZNAME:UTC
DTSTART:20230101T000000
END:STANDARD
END:VTIMEZONE
BEGIN:VEVENT
DTSTART;TZID=UTC:20240623T100000
DTEND;TZID=UTC:20240623T120000
DTSTAMP:20260426T101217
CREATED:20240605T004010Z
LAST-MODIFIED:20240605T004010Z
UID:4614-1719136800-1719144000@batutalam.nadi.my
SUMMARY:SOFT SKILLS
DESCRIPTION:
URL:https://batutalam.nadi.my/event/soft-skills-8/
CATEGORIES:DEFAULT
END:VEVENT
BEGIN:VEVENT
DTSTART;TZID=UTC:20240622T100000
DTEND;TZID=UTC:20240622T120000
DTSTAMP:20260426T101217
CREATED:20240605T003948Z
LAST-MODIFIED:20240605T003948Z
UID:4613-1719050400-1719057600@batutalam.nadi.my
SUMMARY:KEUSAHAWANAN
DESCRIPTION:
URL:https://batutalam.nadi.my/event/keusahawanan-8/
CATEGORIES:DEFAULT
END:VEVENT
BEGIN:VEVENT
DTSTART;TZID=UTC:20240622T100000
DTEND;TZID=UTC:20240622T120000
DTSTAMP:20260426T101217
CREATED:20240605T003948Z
LAST-MODIFIED:20240605T003948Z
UID:5037-1719050400-1719057600@batutalam.nadi.my
SUMMARY:KEUSAHAWANAN
DESCRIPTION:
URL:https://batutalam.nadi.my/event/keusahawanan-20/
CATEGORIES:DEFAULT
END:VEVENT
BEGIN:VEVENT
DTSTART;TZID=UTC:20240621T150000
DTEND;TZID=UTC:20240621T170000
DTSTAMP:20260426T101217
CREATED:20240605T003927Z
LAST-MODIFIED:20240605T003927Z
UID:4612-1718982000-1718989200@batutalam.nadi.my
SUMMARY:E-LEARNING
DESCRIPTION:
URL:https://batutalam.nadi.my/event/e-learning-58/
CATEGORIES:DEFAULT
END:VEVENT
BEGIN:VEVENT
DTSTART;TZID=UTC:20240621T150000
DTEND;TZID=UTC:20240621T170000
DTSTAMP:20260426T101217
CREATED:20240605T003927Z
LAST-MODIFIED:20240605T003927Z
UID:5036-1718982000-1718989200@batutalam.nadi.my
SUMMARY:E-LEARNING
DESCRIPTION:
URL:https://batutalam.nadi.my/event/e-learning-74/
CATEGORIES:DEFAULT
END:VEVENT
BEGIN:VEVENT
DTSTART;TZID=UTC:20240616T100000
DTEND;TZID=UTC:20240616T130000
DTSTAMP:20260426T101217
CREATED:20240605T003911Z
LAST-MODIFIED:20240605T003911Z
UID:4611-1718532000-1718542800@batutalam.nadi.my
SUMMARY:STEM-IOT
DESCRIPTION:
URL:https://batutalam.nadi.my/event/stem-iot-9/
CATEGORIES:DEFAULT
END:VEVENT
BEGIN:VEVENT
DTSTART;TZID=UTC:20240616T100000
DTEND;TZID=UTC:20240616T130000
DTSTAMP:20260426T101217
CREATED:20240605T003911Z
LAST-MODIFIED:20240605T003911Z
UID:5035-1718532000-1718542800@batutalam.nadi.my
SUMMARY:STEM-IOT
DESCRIPTION:
URL:https://batutalam.nadi.my/event/stem-iot-23/
CATEGORIES:DEFAULT
END:VEVENT
BEGIN:VEVENT
DTSTART;TZID=UTC:20240615T100000
DTEND;TZID=UTC:20240615T120000
DTSTAMP:20260426T101217
CREATED:20240605T003851Z
LAST-MODIFIED:20240605T003851Z
UID:5034-1718445600-1718452800@batutalam.nadi.my
SUMMARY:KEUSAHAWANAN
DESCRIPTION:
URL:https://batutalam.nadi.my/event/keusahawanan-19/
CATEGORIES:DEFAULT
END:VEVENT
BEGIN:VEVENT
DTSTART;TZID=UTC:20240615T100000
DTEND;TZID=UTC:20240615T120000
DTSTAMP:20260426T101217
CREATED:20240605T003851Z
LAST-MODIFIED:20240605T003851Z
UID:4610-1718445600-1718452800@batutalam.nadi.my
SUMMARY:KEUSAHAWANAN
DESCRIPTION:
URL:https://batutalam.nadi.my/event/keusahawanan-7/
CATEGORIES:DEFAULT
END:VEVENT
BEGIN:VEVENT
DTSTART;TZID=UTC:20240614T150000
DTEND;TZID=UTC:20240614T170000
DTSTAMP:20260426T101217
CREATED:20240605T003823Z
LAST-MODIFIED:20240605T003823Z
UID:5033-1718377200-1718384400@batutalam.nadi.my
SUMMARY:SOFT SKILLS
DESCRIPTION:
URL:https://batutalam.nadi.my/event/soft-skills-19/
CATEGORIES:DEFAULT
END:VEVENT
BEGIN:VEVENT
DTSTART;TZID=UTC:20240614T150000
DTEND;TZID=UTC:20240614T170000
DTSTAMP:20260426T101217
CREATED:20240605T003823Z
LAST-MODIFIED:20240605T003823Z
UID:4609-1718377200-1718384400@batutalam.nadi.my
SUMMARY:SOFT SKILLS
DESCRIPTION:
URL:https://batutalam.nadi.my/event/soft-skills-7/
CATEGORIES:DEFAULT
END:VEVENT
BEGIN:VEVENT
DTSTART;TZID=UTC:20240607T150000
DTEND;TZID=UTC:20240607T170000
DTSTAMP:20260426T101217
CREATED:20240605T003805Z
LAST-MODIFIED:20240605T003805Z
UID:5032-1717772400-1717779600@batutalam.nadi.my
SUMMARY:BASIC ICT
DESCRIPTION:
URL:https://batutalam.nadi.my/event/basic-ict-21/
CATEGORIES:DEFAULT
END:VEVENT
BEGIN:VEVENT
DTSTART;TZID=UTC:20240607T150000
DTEND;TZID=UTC:20240607T170000
DTSTAMP:20260426T101217
CREATED:20240605T003805Z
LAST-MODIFIED:20240605T003805Z
UID:4608-1717772400-1717779600@batutalam.nadi.my
SUMMARY:BASIC ICT
DESCRIPTION:
URL:https://batutalam.nadi.my/event/basic-ict-8/
CATEGORIES:DEFAULT
END:VEVENT
BEGIN:VEVENT
DTSTART;TZID=UTC:20240606T150000
DTEND;TZID=UTC:20240606T170000
DTSTAMP:20260426T101217
CREATED:20240605T003743Z
LAST-MODIFIED:20240605T003743Z
UID:4607-1717686000-1717693200@batutalam.nadi.my
SUMMARY:E-LEARNING
DESCRIPTION:
URL:https://batutalam.nadi.my/event/e-learning-57/
CATEGORIES:DEFAULT
END:VEVENT
BEGIN:VEVENT
DTSTART;TZID=UTC:20240606T150000
DTEND;TZID=UTC:20240606T170000
DTSTAMP:20260426T101217
CREATED:20240605T003743Z
LAST-MODIFIED:20240605T003743Z
UID:5031-1717686000-1717693200@batutalam.nadi.my
SUMMARY:E-LEARNING
DESCRIPTION:
URL:https://batutalam.nadi.my/event/e-learning-73/
CATEGORIES:DEFAULT
END:VEVENT
BEGIN:VEVENT
DTSTART;TZID=UTC:20240531T150000
DTEND;TZID=UTC:20240531T170000
DTSTAMP:20260426T101217
CREATED:20240506T192144Z
LAST-MODIFIED:20240506T192144Z
UID:4606-1717167600-1717174800@batutalam.nadi.my
SUMMARY:SOFT SKILLS
DESCRIPTION:
URL:https://batutalam.nadi.my/event/soft-skills-6/
CATEGORIES:DEFAULT
END:VEVENT
BEGIN:VEVENT
DTSTART;TZID=UTC:20240531T150000
DTEND;TZID=UTC:20240531T170000
DTSTAMP:20260426T101217
CREATED:20240506T192144Z
LAST-MODIFIED:20240506T192144Z
UID:5030-1717167600-1717174800@batutalam.nadi.my
SUMMARY:SOFT SKILLS
DESCRIPTION:
URL:https://batutalam.nadi.my/event/soft-skills-18/
CATEGORIES:DEFAULT
END:VEVENT
BEGIN:VEVENT
DTSTART;TZID=UTC:20240525T100000
DTEND;TZID=UTC:20240525T120000
DTSTAMP:20260426T101217
CREATED:20240506T192057Z
LAST-MODIFIED:20240506T192057Z
UID:5028-1716631200-1716638400@batutalam.nadi.my
SUMMARY:KEUSAHAWANAN
DESCRIPTION:
URL:https://batutalam.nadi.my/event/keusahawanan-18/
CATEGORIES:DEFAULT
END:VEVENT
BEGIN:VEVENT
DTSTART;TZID=UTC:20240525T100000
DTEND;TZID=UTC:20240525T120000
DTSTAMP:20260426T101217
CREATED:20240506T192057Z
LAST-MODIFIED:20240506T192057Z
UID:4604-1716631200-1716638400@batutalam.nadi.my
SUMMARY:KEUSAHAWANAN
DESCRIPTION:
URL:https://batutalam.nadi.my/event/keusahawanan-6/
CATEGORIES:DEFAULT
END:VEVENT
BEGIN:VEVENT
DTSTART;TZID=UTC:20240524T150000
DTEND;TZID=UTC:20240524T170000
DTSTAMP:20260426T101217
CREATED:20240506T192035Z
LAST-MODIFIED:20240506T192035Z
UID:5027-1716562800-1716570000@batutalam.nadi.my
SUMMARY:E-LEARNING
DESCRIPTION:
URL:https://batutalam.nadi.my/event/e-learning-72/
CATEGORIES:DEFAULT
END:VEVENT
BEGIN:VEVENT
DTSTART;TZID=UTC:20240524T150000
DTEND;TZID=UTC:20240524T170000
DTSTAMP:20260426T101217
CREATED:20240506T192035Z
LAST-MODIFIED:20240506T192035Z
UID:4603-1716562800-1716570000@batutalam.nadi.my
SUMMARY:E-LEARNING
DESCRIPTION:
URL:https://batutalam.nadi.my/event/e-learning-56/
CATEGORIES:DEFAULT
END:VEVENT
BEGIN:VEVENT
DTSTART;TZID=UTC:20240519T100000
DTEND;TZID=UTC:20240519T130000
DTSTAMP:20260426T101217
CREATED:20240506T192019Z
LAST-MODIFIED:20240506T192019Z
UID:4602-1716112800-1716123600@batutalam.nadi.my
SUMMARY:STEM-IOT
DESCRIPTION:
URL:https://batutalam.nadi.my/event/stem-iot-7/
CATEGORIES:DEFAULT
END:VEVENT
BEGIN:VEVENT
DTSTART;TZID=UTC:20240519T100000
DTEND;TZID=UTC:20240519T130000
DTSTAMP:20260426T101217
CREATED:20240506T192019Z
LAST-MODIFIED:20240506T192019Z
UID:5026-1716112800-1716123600@batutalam.nadi.my
SUMMARY:STEM-IOT
DESCRIPTION:
URL:https://batutalam.nadi.my/event/stem-iot-21/
CATEGORIES:DEFAULT
END:VEVENT
BEGIN:VEVENT
DTSTART;TZID=UTC:20240518T100000
DTEND;TZID=UTC:20240518T130000
DTSTAMP:20260426T101217
CREATED:20240506T191959Z
LAST-MODIFIED:20240506T191959Z
UID:4601-1716026400-1716037200@batutalam.nadi.my
SUMMARY:KEUSAHAWANAN
DESCRIPTION:
URL:https://batutalam.nadi.my/event/keusahawanan-5/
CATEGORIES:DEFAULT
END:VEVENT
BEGIN:VEVENT
DTSTART;TZID=UTC:20240518T100000
DTEND;TZID=UTC:20240518T130000
DTSTAMP:20260426T101217
CREATED:20240506T191959Z
LAST-MODIFIED:20240506T191959Z
UID:5025-1716026400-1716037200@batutalam.nadi.my
SUMMARY:KEUSAHAWANAN
DESCRIPTION:
URL:https://batutalam.nadi.my/event/keusahawanan-17/
CATEGORIES:DEFAULT
END:VEVENT
BEGIN:VEVENT
DTSTART;TZID=UTC:20240517T150000
DTEND;TZID=UTC:20240517T170000
DTSTAMP:20260426T101217
CREATED:20240506T191933Z
LAST-MODIFIED:20240506T191933Z
UID:4600-1715958000-1715965200@batutalam.nadi.my
SUMMARY:BASIC ICT
DESCRIPTION:
URL:https://batutalam.nadi.my/event/basic-ict-7/
CATEGORIES:DEFAULT
END:VEVENT
BEGIN:VEVENT
DTSTART;TZID=UTC:20240517T150000
DTEND;TZID=UTC:20240517T170000
DTSTAMP:20260426T101217
CREATED:20240506T191933Z
LAST-MODIFIED:20240506T191933Z
UID:5024-1715958000-1715965200@batutalam.nadi.my
SUMMARY:BASIC ICT
DESCRIPTION:
URL:https://batutalam.nadi.my/event/basic-ict-20/
CATEGORIES:DEFAULT
END:VEVENT
BEGIN:VEVENT
DTSTART;TZID=UTC:20240510T150000
DTEND;TZID=UTC:20240510T170000
DTSTAMP:20260426T101217
CREATED:20240506T191912Z
LAST-MODIFIED:20240506T191912Z
UID:5023-1715353200-1715360400@batutalam.nadi.my
SUMMARY:BASIC ENTREPRENEURS
DESCRIPTION:
URL:https://batutalam.nadi.my/event/basic-entrepreneurs-11/
CATEGORIES:DEFAULT
END:VEVENT
BEGIN:VEVENT
DTSTART;TZID=UTC:20240510T150000
DTEND;TZID=UTC:20240510T170000
DTSTAMP:20260426T101217
CREATED:20240506T191912Z
LAST-MODIFIED:20240506T191912Z
UID:4599-1715353200-1715360400@batutalam.nadi.my
SUMMARY:BASIC ENTREPRENEURS
DESCRIPTION:
URL:https://batutalam.nadi.my/event/basic-entrepreneurs-4/
CATEGORIES:DEFAULT
END:VEVENT
BEGIN:VEVENT
DTSTART;TZID=UTC:20240509T150000
DTEND;TZID=UTC:20240509T170000
DTSTAMP:20260426T101217
CREATED:20240506T191852Z
LAST-MODIFIED:20240506T191852Z
UID:5022-1715266800-1715274000@batutalam.nadi.my
SUMMARY:BASIC ICT
DESCRIPTION:
URL:https://batutalam.nadi.my/event/basic-ict-19/
CATEGORIES:DEFAULT
END:VEVENT
END:VCALENDAR