BEGIN:VCALENDAR
VERSION:2.0
PRODID:-//NADI Batu Talam - ECPv6.15.20//NONSGML v1.0//EN
CALSCALE:GREGORIAN
METHOD:PUBLISH
X-WR-CALNAME:NADI Batu Talam
X-ORIGINAL-URL:https://batutalam.nadi.my
X-WR-CALDESC:Events for NADI Batu Talam
REFRESH-INTERVAL;VALUE=DURATION:PT1H
X-Robots-Tag:noindex
X-PUBLISHED-TTL:PT1H
BEGIN:VTIMEZONE
TZID:UTC
BEGIN:STANDARD
TZOFFSETFROM:+0000
TZOFFSETTO:+0000
TZNAME:UTC
DTSTART:20230101T000000
END:STANDARD
END:VTIMEZONE
BEGIN:VEVENT
DTSTART;TZID=UTC:20240824T100000
DTEND;TZID=UTC:20240824T120000
DTSTAMP:20260426T003917
CREATED:20240805T023124Z
LAST-MODIFIED:20240805T023124Z
UID:5058-1724493600-1724500800@batutalam.nadi.my
SUMMARY:KEUSAHAWANAN
DESCRIPTION:
URL:https://batutalam.nadi.my/event/keusahawanan-24/
CATEGORIES:DEFAULT
END:VEVENT
BEGIN:VEVENT
DTSTART;TZID=UTC:20240823T150000
DTEND;TZID=UTC:20240823T170000
DTSTAMP:20260426T003917
CREATED:20240805T023106Z
LAST-MODIFIED:20240805T023106Z
UID:4633-1724425200-1724432400@batutalam.nadi.my
SUMMARY:BASIC ENTREPRENEURS
DESCRIPTION:
URL:https://batutalam.nadi.my/event/basic-entrepreneurs-7/
CATEGORIES:DEFAULT
END:VEVENT
BEGIN:VEVENT
DTSTART;TZID=UTC:20240823T150000
DTEND;TZID=UTC:20240823T170000
DTSTAMP:20260426T003917
CREATED:20240805T023106Z
LAST-MODIFIED:20240805T023106Z
UID:5057-1724425200-1724432400@batutalam.nadi.my
SUMMARY:BASIC ENTREPRENEURS
DESCRIPTION:
URL:https://batutalam.nadi.my/event/basic-entrepreneurs-14/
CATEGORIES:DEFAULT
END:VEVENT
BEGIN:VEVENT
DTSTART;TZID=UTC:20240818T100000
DTEND;TZID=UTC:20240818T120000
DTSTAMP:20260426T003917
CREATED:20240805T023045Z
LAST-MODIFIED:20240805T023045Z
UID:4632-1723975200-1723982400@batutalam.nadi.my
SUMMARY:STEM-IOT
DESCRIPTION:
URL:https://batutalam.nadi.my/event/stem-iot-13/
CATEGORIES:DEFAULT
END:VEVENT
BEGIN:VEVENT
DTSTART;TZID=UTC:20240818T100000
DTEND;TZID=UTC:20240818T120000
DTSTAMP:20260426T003917
CREATED:20240805T023045Z
LAST-MODIFIED:20240805T023045Z
UID:5056-1723975200-1723982400@batutalam.nadi.my
SUMMARY:STEM-IOT
DESCRIPTION:
URL:https://batutalam.nadi.my/event/stem-iot-27/
CATEGORIES:DEFAULT
END:VEVENT
BEGIN:VEVENT
DTSTART;TZID=UTC:20240817T100000
DTEND;TZID=UTC:20240817T120000
DTSTAMP:20260426T003917
CREATED:20240805T023014Z
LAST-MODIFIED:20240805T023014Z
UID:5055-1723888800-1723896000@batutalam.nadi.my
SUMMARY:KEUSAHAWANAN
DESCRIPTION:
URL:https://batutalam.nadi.my/event/keusahawanan-23/
CATEGORIES:DEFAULT
END:VEVENT
BEGIN:VEVENT
DTSTART;TZID=UTC:20240817T100000
DTEND;TZID=UTC:20240817T120000
DTSTAMP:20260426T003917
CREATED:20240805T023014Z
LAST-MODIFIED:20240805T023014Z
UID:4631-1723888800-1723896000@batutalam.nadi.my
SUMMARY:KEUSAHAWANAN
DESCRIPTION:
URL:https://batutalam.nadi.my/event/keusahawanan-11/
CATEGORIES:DEFAULT
END:VEVENT
BEGIN:VEVENT
DTSTART;TZID=UTC:20240816T150000
DTEND;TZID=UTC:20240816T170000
DTSTAMP:20260426T003917
CREATED:20240805T022951Z
LAST-MODIFIED:20240805T022951Z
UID:5054-1723820400-1723827600@batutalam.nadi.my
SUMMARY:SOFT SKILLS
DESCRIPTION:
URL:https://batutalam.nadi.my/event/soft-skills-22/
CATEGORIES:DEFAULT
END:VEVENT
BEGIN:VEVENT
DTSTART;TZID=UTC:20240816T150000
DTEND;TZID=UTC:20240816T170000
DTSTAMP:20260426T003917
CREATED:20240805T022951Z
LAST-MODIFIED:20240805T022951Z
UID:4630-1723820400-1723827600@batutalam.nadi.my
SUMMARY:SOFT SKILLS
DESCRIPTION:
URL:https://batutalam.nadi.my/event/soft-skills-10/
CATEGORIES:DEFAULT
END:VEVENT
BEGIN:VEVENT
DTSTART;TZID=UTC:20240809T150000
DTEND;TZID=UTC:20240809T170000
DTSTAMP:20260426T003917
CREATED:20240805T022933Z
LAST-MODIFIED:20240805T022933Z
UID:4629-1723215600-1723222800@batutalam.nadi.my
SUMMARY:E-LEARNING
DESCRIPTION:
URL:https://batutalam.nadi.my/event/e-learning-60/
CATEGORIES:DEFAULT
END:VEVENT
BEGIN:VEVENT
DTSTART;TZID=UTC:20240809T150000
DTEND;TZID=UTC:20240809T170000
DTSTAMP:20260426T003917
CREATED:20240805T022933Z
LAST-MODIFIED:20240805T022933Z
UID:5053-1723215600-1723222800@batutalam.nadi.my
SUMMARY:E-LEARNING
DESCRIPTION:
URL:https://batutalam.nadi.my/event/e-learning-76/
CATEGORIES:DEFAULT
END:VEVENT
BEGIN:VEVENT
DTSTART;TZID=UTC:20240808T150000
DTEND;TZID=UTC:20240808T170000
DTSTAMP:20260426T003917
CREATED:20240805T022913Z
LAST-MODIFIED:20240805T022913Z
UID:4628-1723129200-1723136400@batutalam.nadi.my
SUMMARY:BASIC ICT
DESCRIPTION:
URL:https://batutalam.nadi.my/event/basic-ict-13/
CATEGORIES:DEFAULT
END:VEVENT
BEGIN:VEVENT
DTSTART;TZID=UTC:20240808T150000
DTEND;TZID=UTC:20240808T170000
DTSTAMP:20260426T003917
CREATED:20240805T022913Z
LAST-MODIFIED:20240805T022913Z
UID:5052-1723129200-1723136400@batutalam.nadi.my
SUMMARY:BASIC ICT
DESCRIPTION:
URL:https://batutalam.nadi.my/event/basic-ict-26/
CATEGORIES:DEFAULT
END:VEVENT
BEGIN:VEVENT
DTSTART;TZID=UTC:20240802T150000
DTEND;TZID=UTC:20240802T170000
DTSTAMP:20260426T003917
CREATED:20240805T022846Z
LAST-MODIFIED:20240805T022846Z
UID:4627-1722610800-1722618000@batutalam.nadi.my
SUMMARY:BASIC ICT
DESCRIPTION:
URL:https://batutalam.nadi.my/event/basic-ict-12/
CATEGORIES:DEFAULT
END:VEVENT
BEGIN:VEVENT
DTSTART;TZID=UTC:20240802T150000
DTEND;TZID=UTC:20240802T170000
DTSTAMP:20260426T003917
CREATED:20240805T022846Z
LAST-MODIFIED:20240805T022846Z
UID:5051-1722610800-1722618000@batutalam.nadi.my
SUMMARY:BASIC ICT
DESCRIPTION:
URL:https://batutalam.nadi.my/event/basic-ict-25/
CATEGORIES:DEFAULT
END:VEVENT
BEGIN:VEVENT
DTSTART;TZID=UTC:20240728T100000
DTEND;TZID=UTC:20240728T120000
DTSTAMP:20260426T003917
CREATED:20240708T022248Z
LAST-MODIFIED:20240708T022248Z
UID:5050-1722160800-1722168000@batutalam.nadi.my
SUMMARY:STEM-IOT
DESCRIPTION:
URL:https://batutalam.nadi.my/event/stem-iot-26/
CATEGORIES:DEFAULT
END:VEVENT
BEGIN:VEVENT
DTSTART;TZID=UTC:20240728T100000
DTEND;TZID=UTC:20240728T120000
DTSTAMP:20260426T003917
CREATED:20240708T022248Z
LAST-MODIFIED:20240708T022248Z
UID:4626-1722160800-1722168000@batutalam.nadi.my
SUMMARY:STEM-IOT
DESCRIPTION:
URL:https://batutalam.nadi.my/event/stem-iot-12/
CATEGORIES:DEFAULT
END:VEVENT
BEGIN:VEVENT
DTSTART;TZID=UTC:20240727T100000
DTEND;TZID=UTC:20240727T120000
DTSTAMP:20260426T003917
CREATED:20240708T022222Z
LAST-MODIFIED:20240708T022222Z
UID:5049-1722074400-1722081600@batutalam.nadi.my
SUMMARY:KEUSAHAWANAN
DESCRIPTION:
URL:https://batutalam.nadi.my/event/keusahawanan-22/
CATEGORIES:DEFAULT
END:VEVENT
BEGIN:VEVENT
DTSTART;TZID=UTC:20240727T100000
DTEND;TZID=UTC:20240727T120000
DTSTAMP:20260426T003917
CREATED:20240708T022222Z
LAST-MODIFIED:20240708T022222Z
UID:4625-1722074400-1722081600@batutalam.nadi.my
SUMMARY:KEUSAHAWANAN
DESCRIPTION:
URL:https://batutalam.nadi.my/event/keusahawanan-10/
CATEGORIES:DEFAULT
END:VEVENT
BEGIN:VEVENT
DTSTART;TZID=UTC:20240726T150000
DTEND;TZID=UTC:20240726T170000
DTSTAMP:20260426T003917
CREATED:20240708T022207Z
LAST-MODIFIED:20240708T022207Z
UID:5048-1722006000-1722013200@batutalam.nadi.my
SUMMARY:BASIC ICT
DESCRIPTION:
URL:https://batutalam.nadi.my/event/basic-ict-24/
CATEGORIES:DEFAULT
END:VEVENT
BEGIN:VEVENT
DTSTART;TZID=UTC:20240726T150000
DTEND;TZID=UTC:20240726T170000
DTSTAMP:20260426T003917
CREATED:20240708T022207Z
LAST-MODIFIED:20240708T022207Z
UID:4624-1722006000-1722013200@batutalam.nadi.my
SUMMARY:BASIC ICT
DESCRIPTION:
URL:https://batutalam.nadi.my/event/basic-ict-11/
CATEGORIES:DEFAULT
END:VEVENT
BEGIN:VEVENT
DTSTART;TZID=UTC:20240721T100000
DTEND;TZID=UTC:20240721T120000
DTSTAMP:20260426T003917
CREATED:20240708T022150Z
LAST-MODIFIED:20240708T022150Z
UID:4623-1721556000-1721563200@batutalam.nadi.my
SUMMARY:STEM-IOT
DESCRIPTION:
URL:https://batutalam.nadi.my/event/stem-iot-11/
CATEGORIES:DEFAULT
END:VEVENT
BEGIN:VEVENT
DTSTART;TZID=UTC:20240721T100000
DTEND;TZID=UTC:20240721T120000
DTSTAMP:20260426T003917
CREATED:20240708T022150Z
LAST-MODIFIED:20240708T022150Z
UID:5047-1721556000-1721563200@batutalam.nadi.my
SUMMARY:STEM-IOT
DESCRIPTION:
URL:https://batutalam.nadi.my/event/stem-iot-25/
CATEGORIES:DEFAULT
END:VEVENT
BEGIN:VEVENT
DTSTART;TZID=UTC:20240720T100000
DTEND;TZID=UTC:20240720T120000
DTSTAMP:20260426T003917
CREATED:20240708T022130Z
LAST-MODIFIED:20240708T022130Z
UID:4622-1721469600-1721476800@batutalam.nadi.my
SUMMARY:KEUSAHAWANAN
DESCRIPTION:
URL:https://batutalam.nadi.my/event/keusahawanan-9/
CATEGORIES:DEFAULT
END:VEVENT
BEGIN:VEVENT
DTSTART;TZID=UTC:20240720T100000
DTEND;TZID=UTC:20240720T120000
DTSTAMP:20260426T003917
CREATED:20240708T022130Z
LAST-MODIFIED:20240708T022130Z
UID:5046-1721469600-1721476800@batutalam.nadi.my
SUMMARY:KEUSAHAWANAN
DESCRIPTION:
URL:https://batutalam.nadi.my/event/keusahawanan-21/
CATEGORIES:DEFAULT
END:VEVENT
BEGIN:VEVENT
DTSTART;TZID=UTC:20240719T150000
DTEND;TZID=UTC:20240719T170000
DTSTAMP:20260426T003917
CREATED:20240708T022103Z
LAST-MODIFIED:20240708T022103Z
UID:5045-1721401200-1721408400@batutalam.nadi.my
SUMMARY:BASIC ENTREPRENEURS
DESCRIPTION:
URL:https://batutalam.nadi.my/event/basic-entrepreneurs-13/
CATEGORIES:DEFAULT
END:VEVENT
BEGIN:VEVENT
DTSTART;TZID=UTC:20240719T150000
DTEND;TZID=UTC:20240719T170000
DTSTAMP:20260426T003917
CREATED:20240708T022103Z
LAST-MODIFIED:20240708T022103Z
UID:4621-1721401200-1721408400@batutalam.nadi.my
SUMMARY:BASIC ENTREPRENEURS
DESCRIPTION:
URL:https://batutalam.nadi.my/event/basic-entrepreneurs-6/
CATEGORIES:DEFAULT
END:VEVENT
BEGIN:VEVENT
DTSTART;TZID=UTC:20240712T150000
DTEND;TZID=UTC:20240712T170000
DTSTAMP:20260426T003917
CREATED:20240708T022036Z
LAST-MODIFIED:20240708T022036Z
UID:5044-1720796400-1720803600@batutalam.nadi.my
SUMMARY:SOFT SKILLS
DESCRIPTION:
URL:https://batutalam.nadi.my/event/soft-skills-21/
CATEGORIES:DEFAULT
END:VEVENT
BEGIN:VEVENT
DTSTART;TZID=UTC:20240712T150000
DTEND;TZID=UTC:20240712T170000
DTSTAMP:20260426T003917
CREATED:20240708T022036Z
LAST-MODIFIED:20240708T022036Z
UID:4620-1720796400-1720803600@batutalam.nadi.my
SUMMARY:SOFT SKILLS
DESCRIPTION:
URL:https://batutalam.nadi.my/event/soft-skills-9/
CATEGORIES:DEFAULT
END:VEVENT
BEGIN:VEVENT
DTSTART;TZID=UTC:20240711T030000
DTEND;TZID=UTC:20240711T170000
DTSTAMP:20260426T003917
CREATED:20240708T022019Z
LAST-MODIFIED:20240708T022019Z
UID:5043-1720666800-1720717200@batutalam.nadi.my
SUMMARY:BASIC ICT
DESCRIPTION:
URL:https://batutalam.nadi.my/event/basic-ict-23/
CATEGORIES:DEFAULT
END:VEVENT
END:VCALENDAR