BEGIN:VCALENDAR
VERSION:2.0
PRODID:-//NADI Batu Talam - ECPv6.15.20//NONSGML v1.0//EN
CALSCALE:GREGORIAN
METHOD:PUBLISH
X-WR-CALNAME:NADI Batu Talam
X-ORIGINAL-URL:https://batutalam.nadi.my
X-WR-CALDESC:Events for NADI Batu Talam
REFRESH-INTERVAL;VALUE=DURATION:PT1H
X-Robots-Tag:noindex
X-PUBLISHED-TTL:PT1H
BEGIN:VTIMEZONE
TZID:Asia/Kuala_Lumpur
BEGIN:STANDARD
TZOFFSETFROM:+0800
TZOFFSETTO:+0800
TZNAME:+08
DTSTART:20240101T000000
END:STANDARD
END:VTIMEZONE
BEGIN:VTIMEZONE
TZID:UTC
BEGIN:STANDARD
TZOFFSETFROM:+0000
TZOFFSETTO:+0000
TZNAME:UTC
DTSTART:20240101T000000
END:STANDARD
END:VTIMEZONE
BEGIN:VEVENT
DTSTART;TZID=Asia/Kuala_Lumpur:20250426T150000
DTEND;TZID=Asia/Kuala_Lumpur:20250426T170000
DTSTAMP:20260425T104451
CREATED:20250408T042207Z
LAST-MODIFIED:20250408T042207Z
UID:5565-1745679600-1745686800@batutalam.nadi.my
SUMMARY:KEUSAHAWANAN
DESCRIPTION:
URL:https://batutalam.nadi.my/event/keusahawanan-36/
LOCATION:NADI BATU TALAM\, PERUMAHAN BATU TALAM\, RAUB\, Pahang\, 27610\, Malaysia
END:VEVENT
BEGIN:VEVENT
DTSTART;TZID=Asia/Kuala_Lumpur:20250425T153000
DTEND;TZID=Asia/Kuala_Lumpur:20250425T173000
DTSTAMP:20260425T104451
CREATED:20250408T041207Z
LAST-MODIFIED:20250408T041207Z
UID:5563-1745595000-1745602200@batutalam.nadi.my
SUMMARY:ICT
DESCRIPTION:
URL:https://batutalam.nadi.my/event/ict-8/
LOCATION:NADI BATU TALAM\, PERUMAHAN BATU TALAM\, RAUB\, Pahang\, 27610\, Malaysia
END:VEVENT
BEGIN:VEVENT
DTSTART;TZID=Asia/Kuala_Lumpur:20250420T100000
DTEND;TZID=Asia/Kuala_Lumpur:20250420T120000
DTSTAMP:20260425T104451
CREATED:20250408T041135Z
LAST-MODIFIED:20250408T041135Z
UID:5561-1745143200-1745150400@batutalam.nadi.my
SUMMARY:STEM/IOT
DESCRIPTION:
URL:https://batutalam.nadi.my/event/stem-iot-39/
LOCATION:NADI BATU TALAM\, PERUMAHAN BATU TALAM\, RAUB\, Pahang\, 27610\, Malaysia
END:VEVENT
BEGIN:VEVENT
DTSTART;TZID=Asia/Kuala_Lumpur:20250419T100000
DTEND;TZID=Asia/Kuala_Lumpur:20250419T120000
DTSTAMP:20260425T104451
CREATED:20250408T041024Z
LAST-MODIFIED:20250408T041024Z
UID:5559-1745056800-1745064000@batutalam.nadi.my
SUMMARY:KEUSAHAWANAN
DESCRIPTION:
URL:https://batutalam.nadi.my/event/keusahawanan-35/
LOCATION:NADI BATU TALAM\, PERUMAHAN BATU TALAM\, RAUB\, Pahang\, 27610\, Malaysia
END:VEVENT
BEGIN:VEVENT
DTSTART;TZID=Asia/Kuala_Lumpur:20250418T153000
DTEND;TZID=Asia/Kuala_Lumpur:20250418T173000
DTSTAMP:20260425T104451
CREATED:20250408T040520Z
LAST-MODIFIED:20250408T040520Z
UID:5557-1744990200-1744997400@batutalam.nadi.my
SUMMARY:ICT
DESCRIPTION:
URL:https://batutalam.nadi.my/event/ict-7/
LOCATION:NADI BATU TALAM\, PERUMAHAN BATU TALAM\, RAUB\, Pahang\, 27610\, Malaysia
END:VEVENT
BEGIN:VEVENT
DTSTART;TZID=Asia/Kuala_Lumpur:20250411T153000
DTEND;TZID=Asia/Kuala_Lumpur:20250411T173000
DTSTAMP:20260425T104451
CREATED:20250408T040432Z
LAST-MODIFIED:20250408T040432Z
UID:5555-1744385400-1744392600@batutalam.nadi.my
SUMMARY:E-LEARNING
DESCRIPTION:
URL:https://batutalam.nadi.my/event/e-learning-85/
LOCATION:NADI BATU TALAM\, PERUMAHAN BATU TALAM\, RAUB\, Pahang\, 27610\, Malaysia
END:VEVENT
BEGIN:VEVENT
DTSTART;TZID=Asia/Kuala_Lumpur:20250410T150000
DTEND;TZID=Asia/Kuala_Lumpur:20250410T170000
DTSTAMP:20260425T104451
CREATED:20250408T040333Z
LAST-MODIFIED:20250408T040333Z
UID:5553-1744297200-1744304400@batutalam.nadi.my
SUMMARY:SOFT SKILLS
DESCRIPTION:
URL:https://batutalam.nadi.my/event/soft-skills-29/
LOCATION:NADI BATU TALAM\, PERUMAHAN BATU TALAM\, RAUB\, Pahang\, 27610\, Malaysia
END:VEVENT
BEGIN:VEVENT
DTSTART;TZID=Asia/Kuala_Lumpur:20250329T103000
DTEND;TZID=Asia/Kuala_Lumpur:20250329T123000
DTSTAMP:20260425T104451
CREATED:20250309T072701Z
LAST-MODIFIED:20250309T072701Z
UID:5413-1743244200-1743251400@batutalam.nadi.my
SUMMARY:KEUSAHAWANAN
DESCRIPTION:
URL:https://batutalam.nadi.my/event/keusahawanan-34/
LOCATION:NADI BATU TALAM\, PERUMAHAN BATU TALAM\, RAUB\, Pahang\, 27610\, Malaysia
END:VEVENT
BEGIN:VEVENT
DTSTART;TZID=Asia/Kuala_Lumpur:20250328T143000
DTEND;TZID=Asia/Kuala_Lumpur:20250328T163000
DTSTAMP:20260425T104451
CREATED:20250309T072624Z
LAST-MODIFIED:20250309T072624Z
UID:5411-1743172200-1743179400@batutalam.nadi.my
SUMMARY:ICT
DESCRIPTION:
URL:https://batutalam.nadi.my/event/ict-6/
END:VEVENT
BEGIN:VEVENT
DTSTART;TZID=Asia/Kuala_Lumpur:20250323T103000
DTEND;TZID=Asia/Kuala_Lumpur:20250323T123000
DTSTAMP:20260425T104451
CREATED:20250309T072424Z
LAST-MODIFIED:20250309T072424Z
UID:5409-1742725800-1742733000@batutalam.nadi.my
SUMMARY:STEM/IOT
DESCRIPTION:
URL:https://batutalam.nadi.my/event/stem-iot-38/
LOCATION:NADI BATU TALAM\, PERUMAHAN BATU TALAM\, RAUB\, Pahang\, 27610\, Malaysia
END:VEVENT
BEGIN:VEVENT
DTSTART;TZID=Asia/Kuala_Lumpur:20250322T100000
DTEND;TZID=Asia/Kuala_Lumpur:20250322T120000
DTSTAMP:20260425T104451
CREATED:20250309T072346Z
LAST-MODIFIED:20250309T072346Z
UID:5407-1742637600-1742644800@batutalam.nadi.my
SUMMARY:ICT
DESCRIPTION:
URL:https://batutalam.nadi.my/event/ict-5/
LOCATION:NADI BATU TALAM\, PERUMAHAN BATU TALAM\, RAUB\, Pahang\, 27610\, Malaysia
END:VEVENT
BEGIN:VEVENT
DTSTART;TZID=Asia/Kuala_Lumpur:20250316T100000
DTEND;TZID=Asia/Kuala_Lumpur:20250316T120000
DTSTAMP:20260425T104451
CREATED:20250309T072259Z
LAST-MODIFIED:20250309T072259Z
UID:5405-1742119200-1742126400@batutalam.nadi.my
SUMMARY:STEM/IOT
DESCRIPTION:
URL:https://batutalam.nadi.my/event/stem-iot-37/
LOCATION:NADI BATU TALAM\, PERUMAHAN BATU TALAM\, RAUB\, Pahang\, 27610\, Malaysia
END:VEVENT
BEGIN:VEVENT
DTSTART;TZID=Asia/Kuala_Lumpur:20250315T100000
DTEND;TZID=Asia/Kuala_Lumpur:20250315T120000
DTSTAMP:20260425T104451
CREATED:20250309T072214Z
LAST-MODIFIED:20250309T072214Z
UID:5403-1742032800-1742040000@batutalam.nadi.my
SUMMARY:KEUSAHAWANAN
DESCRIPTION:
URL:https://batutalam.nadi.my/event/keusahawanan-33/
LOCATION:NADI BATU TALAM\, PERUMAHAN BATU TALAM\, RAUB\, Pahang\, 27610\, Malaysia
END:VEVENT
BEGIN:VEVENT
DTSTART;TZID=Asia/Kuala_Lumpur:20250314T150000
DTEND;TZID=Asia/Kuala_Lumpur:20250314T170000
DTSTAMP:20260425T104451
CREATED:20250309T072125Z
LAST-MODIFIED:20250309T073003Z
UID:5401-1741964400-1741971600@batutalam.nadi.my
SUMMARY:E-LEARNING
DESCRIPTION:
URL:https://batutalam.nadi.my/event/e-learning-84/
LOCATION:NADI BATU TALAM\, PERUMAHAN BATU TALAM\, RAUB\, Pahang\, 27610\, Malaysia
END:VEVENT
BEGIN:VEVENT
DTSTART;TZID=Asia/Kuala_Lumpur:20250307T150000
DTEND;TZID=Asia/Kuala_Lumpur:20250307T170000
DTSTAMP:20260425T104451
CREATED:20250309T071857Z
LAST-MODIFIED:20250309T071857Z
UID:5399-1741359600-1741366800@batutalam.nadi.my
SUMMARY:SOFT SKILLS
DESCRIPTION:
URL:https://batutalam.nadi.my/event/soft-skills-28/
LOCATION:NADI BATU TALAM\, PERUMAHAN BATU TALAM\, RAUB\, Pahang\, 27610\, Malaysia
END:VEVENT
BEGIN:VEVENT
DTSTART;TZID=Asia/Kuala_Lumpur:20250306T150000
DTEND;TZID=Asia/Kuala_Lumpur:20250306T170000
DTSTAMP:20260425T104451
CREATED:20250309T071711Z
LAST-MODIFIED:20250309T071711Z
UID:5397-1741273200-1741280400@batutalam.nadi.my
SUMMARY:ICT
DESCRIPTION:
URL:https://batutalam.nadi.my/event/ict-4/
LOCATION:NADI BATU TALAM\, PERUMAHAN BATU TALAM\, RAUB\, Pahang\, 27610\, Malaysia
END:VEVENT
BEGIN:VEVENT
DTSTART;TZID=UTC:20250228T153000
DTEND;TZID=UTC:20250228T173000
DTSTAMP:20260425T104451
CREATED:20250224T000153Z
LAST-MODIFIED:20250216T180250Z
UID:5277-1740756600-1740763800@batutalam.nadi.my
SUMMARY:E-LEARNING
DESCRIPTION:
URL:https://batutalam.nadi.my/event/e-learning-83/
LOCATION:NADI BATU TALAM\, PERUMAHAN BATU TALAM\, RAUB\, Pahang\, 27610\, Malaysia
CATEGORIES:DEFAULT
ORGANIZER;CN="NADI Batu Talam":MAILTO:nadibatutalam@gmail.com
END:VEVENT
BEGIN:VEVENT
DTSTART;TZID=UTC:20250223T103000
DTEND;TZID=UTC:20250223T173000
DTSTAMP:20260425T104451
CREATED:20250217T000012Z
LAST-MODIFIED:20250216T180245Z
UID:5275-1740306600-1740331800@batutalam.nadi.my
SUMMARY:STEM/IOT
DESCRIPTION:
URL:https://batutalam.nadi.my/event/stem-iot-36/
LOCATION:NADI BATU TALAM\, PERUMAHAN BATU TALAM\, RAUB\, Pahang\, 27610\, Malaysia
CATEGORIES:DEFAULT
ORGANIZER;CN="NADI Batu Talam":MAILTO:nadibatutalam@gmail.com
END:VEVENT
BEGIN:VEVENT
DTSTART;TZID=UTC:20250222T100000
DTEND;TZID=UTC:20250222T120000
DTSTAMP:20260425T104451
CREATED:20250217T000019Z
LAST-MODIFIED:20250216T180240Z
UID:5273-1740218400-1740225600@batutalam.nadi.my
SUMMARY:KEUSAHAWANAN
DESCRIPTION:
URL:https://batutalam.nadi.my/event/keusahawanan-32/
LOCATION:NADI BATU TALAM\, PERUMAHAN BATU TALAM\, RAUB\, Pahang\, 27610\, Malaysia
CATEGORIES:DEFAULT
ORGANIZER;CN="NADI Batu Talam":MAILTO:nadibatutalam@gmail.com
END:VEVENT
BEGIN:VEVENT
DTSTART;TZID=UTC:20250221T153000
DTEND;TZID=UTC:20250221T173000
DTSTAMP:20260425T104451
CREATED:20250217T000055Z
LAST-MODIFIED:20250216T180230Z
UID:5263-1740151800-1740159000@batutalam.nadi.my
SUMMARY:ICT
DESCRIPTION:
URL:https://batutalam.nadi.my/event/ict-3/
LOCATION:NADI BATU TALAM\, PERUMAHAN BATU TALAM\, RAUB\, Pahang\, 27610\, Malaysia
CATEGORIES:DEFAULT
ORGANIZER;CN="NADI Batu Talam":MAILTO:nadibatutalam@gmail.com
END:VEVENT
BEGIN:VEVENT
DTSTART;TZID=UTC:20250216T100000
DTEND;TZID=UTC:20250216T120000
DTSTAMP:20260425T104451
CREATED:20250205T232011Z
LAST-MODIFIED:20250205T235814Z
UID:5261-1739700000-1739707200@batutalam.nadi.my
SUMMARY:STEM/IOT
DESCRIPTION:
URL:https://batutalam.nadi.my/event/stem-iot-35/
LOCATION:NADI BATU TALAM\, PERUMAHAN BATU TALAM\, RAUB\, Pahang\, 27610\, Malaysia
CATEGORIES:DEFAULT
ORGANIZER;CN="NADI Batu Talam":MAILTO:nadibatutalam@gmail.com
END:VEVENT
BEGIN:VEVENT
DTSTART;TZID=UTC:20250215T100000
DTEND;TZID=UTC:20250215T120000
DTSTAMP:20260425T104451
CREATED:20250205T231846Z
LAST-MODIFIED:20250205T234359Z
UID:5259-1739613600-1739620800@batutalam.nadi.my
SUMMARY:KEUSAHAWANAN
DESCRIPTION:
URL:https://batutalam.nadi.my/event/keusahawanan-31/
LOCATION:NADI BATU TALAM\, PERUMAHAN BATU TALAM\, RAUB\, Pahang\, 27610\, Malaysia
CATEGORIES:DEFAULT
ORGANIZER;CN="NADI Batu Talam":MAILTO:nadibatutalam@gmail.com
END:VEVENT
BEGIN:VEVENT
DTSTART;TZID=UTC:20250214T150000
DTEND;TZID=UTC:20250214T170000
DTSTAMP:20260425T104451
CREATED:20250205T231753Z
LAST-MODIFIED:20250205T232959Z
UID:5257-1739545200-1739552400@batutalam.nadi.my
SUMMARY:SOFT SKILLS
DESCRIPTION:
URL:https://batutalam.nadi.my/event/soft-skills-27/
LOCATION:NADI BATU TALAM\, PERUMAHAN BATU TALAM\, RAUB\, Pahang\, 27610\, Malaysia
CATEGORIES:DEFAULT
ORGANIZER;CN="NADI Batu Talam":MAILTO:nadibatutalam@gmail.com
END:VEVENT
BEGIN:VEVENT
DTSTART;TZID=UTC:20250206T033000
DTEND;TZID=UTC:20250206T173000
DTSTAMP:20260425T104451
CREATED:20250205T231120Z
LAST-MODIFIED:20250205T235532Z
UID:5254-1738812600-1738863000@batutalam.nadi.my
SUMMARY:E-LEARNING
DESCRIPTION:
URL:https://batutalam.nadi.my/event/e-learning-82/
CATEGORIES:DEFAULT
ORGANIZER;CN="NADI Batu Talam":MAILTO:nadibatutalam@gmail.com
END:VEVENT
BEGIN:VEVENT
DTSTART;TZID=UTC:20250126T100000
DTEND;TZID=UTC:20250126T120000
DTSTAMP:20260425T104451
CREATED:20250105T194328Z
LAST-MODIFIED:20250105T194543Z
UID:5184-1737885600-1737892800@batutalam.nadi.my
SUMMARY:STEM/IOT
DESCRIPTION:
URL:https://batutalam.nadi.my/event/stem-iot-34/
LOCATION:NADI BATU TALAM\, PERUMAHAN BATU TALAM\, RAUB\, Pahang\, 27610\, Malaysia
CATEGORIES:DEFAULT
END:VEVENT
BEGIN:VEVENT
DTSTART;TZID=UTC:20250125T100000
DTEND;TZID=UTC:20250125T120000
DTSTAMP:20260425T104451
CREATED:20250105T194216Z
LAST-MODIFIED:20250105T194637Z
UID:5182-1737799200-1737806400@batutalam.nadi.my
SUMMARY:KEUSAHAWANAN
DESCRIPTION:
URL:https://batutalam.nadi.my/event/keusahawanan-30/
LOCATION:NADI BATU TALAM\, PERUMAHAN BATU TALAM\, RAUB\, Pahang\, 27610\, Malaysia
CATEGORIES:DEFAULT
END:VEVENT
BEGIN:VEVENT
DTSTART;TZID=UTC:20250124T153000
DTEND;TZID=UTC:20250124T173000
DTSTAMP:20260425T104451
CREATED:20250105T194053Z
LAST-MODIFIED:20250105T194642Z
UID:5180-1737732600-1737739800@batutalam.nadi.my
SUMMARY:ICT
DESCRIPTION:
URL:https://batutalam.nadi.my/event/ict-2/
LOCATION:NADI BATU TALAM\, PERUMAHAN BATU TALAM\, RAUB\, Pahang\, 27610\, Malaysia
CATEGORIES:DEFAULT
END:VEVENT
BEGIN:VEVENT
DTSTART;TZID=UTC:20250119T100000
DTEND;TZID=UTC:20250119T120000
DTSTAMP:20260425T104451
CREATED:20250105T194006Z
LAST-MODIFIED:20250105T194647Z
UID:5178-1737280800-1737288000@batutalam.nadi.my
SUMMARY:STEM/IOT
DESCRIPTION:
URL:https://batutalam.nadi.my/event/stem-iot-33/
LOCATION:NADI BATU TALAM\, PERUMAHAN BATU TALAM\, RAUB\, Pahang\, 27610\, Malaysia
CATEGORIES:DEFAULT
END:VEVENT
BEGIN:VEVENT
DTSTART;TZID=UTC:20250118T100000
DTEND;TZID=UTC:20250118T120000
DTSTAMP:20260425T104451
CREATED:20250105T193903Z
LAST-MODIFIED:20250105T194652Z
UID:5176-1737194400-1737201600@batutalam.nadi.my
SUMMARY:KEUSAHAWANAN
DESCRIPTION:
URL:https://batutalam.nadi.my/event/keusahawanan-29/
LOCATION:NADI BATU TALAM\, PERUMAHAN BATU TALAM\, RAUB\, Pahang\, 27610\, Malaysia
CATEGORIES:DEFAULT
END:VEVENT
BEGIN:VEVENT
DTSTART;TZID=UTC:20250110T153000
DTEND;TZID=UTC:20250110T173000
DTSTAMP:20260425T104451
CREATED:20250105T193606Z
LAST-MODIFIED:20250105T194658Z
UID:5171-1736523000-1736530200@batutalam.nadi.my
SUMMARY:ICT
DESCRIPTION:
URL:https://batutalam.nadi.my/event/ict/
LOCATION:NADI BATU TALAM\, PERUMAHAN BATU TALAM\, RAUB\, Pahang\, 27610\, Malaysia
CATEGORIES:DEFAULT
END:VEVENT
END:VCALENDAR