BEGIN:VCALENDAR
VERSION:2.0
PRODID:-//NADI Batu Talam - ECPv6.15.20//NONSGML v1.0//EN
CALSCALE:GREGORIAN
METHOD:PUBLISH
X-WR-CALNAME:NADI Batu Talam
X-ORIGINAL-URL:https://batutalam.nadi.my
X-WR-CALDESC:Events for NADI Batu Talam
REFRESH-INTERVAL;VALUE=DURATION:PT1H
X-Robots-Tag:noindex
X-PUBLISHED-TTL:PT1H
BEGIN:VTIMEZONE
TZID:Asia/Kuala_Lumpur
BEGIN:STANDARD
TZOFFSETFROM:+0800
TZOFFSETTO:+0800
TZNAME:+08
DTSTART:20240101T000000
END:STANDARD
END:VTIMEZONE
BEGIN:VEVENT
DTSTART;VALUE=DATE:20250606
DTEND;VALUE=DATE:20250609
DTSTAMP:20260425T230727
CREATED:20250607T010056Z
LAST-MODIFIED:20250607T151225Z
UID:5859-1749168000-1749427199@batutalam.nadi.my
SUMMARY:E-SUKAN_KELAS KESEDARAN : SAINS SUKAN DALAM E-SUKAN EP.1
DESCRIPTION:
URL:https://batutalam.nadi.my/event/e-sukan_kelas-kesedaran-sains-sukan-dalam-e-sukan-ep-1/
END:VEVENT
BEGIN:VEVENT
DTSTART;TZID=Asia/Kuala_Lumpur:20250604T110000
DTEND;TZID=Asia/Kuala_Lumpur:20250604T120000
DTSTAMP:20260425T230727
CREATED:20250607T155434Z
LAST-MODIFIED:20250607T155434Z
UID:5922-1749034800-1749038400@batutalam.nadi.my
SUMMARY:AWARENESS : Laman Web Jahat (12 & above)
DESCRIPTION:
URL:https://batutalam.nadi.my/event/awareness-laman-web-jahat-12-above/
END:VEVENT
BEGIN:VEVENT
DTSTART;TZID=Asia/Kuala_Lumpur:20250604T100000
DTEND;TZID=Asia/Kuala_Lumpur:20250604T110000
DTSTAMP:20260425T230727
CREATED:20250607T155252Z
LAST-MODIFIED:20250607T155516Z
UID:5920-1749031200-1749034800@batutalam.nadi.my
SUMMARY:AWARENESS : Malware (12y & below)
DESCRIPTION:
URL:https://batutalam.nadi.my/event/awareness-malware/
END:VEVENT
BEGIN:VEVENT
DTSTART;VALUE=DATE:20250603
DTEND;VALUE=DATE:20250607
DTSTAMP:20260425T230727
CREATED:20250607T151826Z
LAST-MODIFIED:20250607T151826Z
UID:5868-1748908800-1749254399@batutalam.nadi.my
SUMMARY:DiLea : English Proficiency #9
DESCRIPTION:
URL:https://batutalam.nadi.my/event/dilea-english-proficiency-9/
END:VEVENT
BEGIN:VEVENT
DTSTART;VALUE=DATE:20250602
DTEND;VALUE=DATE:20250609
DTSTAMP:20260425T230727
CREATED:20250607T010020Z
LAST-MODIFIED:20250607T151212Z
UID:5841-1748822400-1749427199@batutalam.nadi.my
SUMMARY:USAHAWAN_COHORT 3: VIDEO PRA LATIHAN - PEMASARAN & OPERASI PERNIAGAAN
DESCRIPTION:
URL:https://batutalam.nadi.my/event/cohort-3-video-pra-latihan-pemasaran-operasi-perniagaan/
END:VEVENT
BEGIN:VEVENT
DTSTART;TZID=Asia/Kuala_Lumpur:20250601T090000
DTEND;TZID=Asia/Kuala_Lumpur:20250601T180000
DTSTAMP:20260425T230727
CREATED:20250607T155135Z
LAST-MODIFIED:20250607T155135Z
UID:5918-1748768400-1748800800@batutalam.nadi.my
SUMMARY:AWARENESS : Laman Web Berbahaya (12y & above)
DESCRIPTION:
URL:https://batutalam.nadi.my/event/awareness-laman-web-berbahaya-12y-above/
END:VEVENT
BEGIN:VEVENT
DTSTART;TZID=Asia/Kuala_Lumpur:20250601T090000
DTEND;TZID=Asia/Kuala_Lumpur:20250601T180000
DTSTAMP:20260425T230727
CREATED:20250607T155038Z
LAST-MODIFIED:20250607T155038Z
UID:5916-1748768400-1748800800@batutalam.nadi.my
SUMMARY:AWARENESS : Perisian Merbahaya (12y & below)
DESCRIPTION:
URL:https://batutalam.nadi.my/event/awareness-perisian-merbahaya-12y-below/
END:VEVENT
BEGIN:VEVENT
DTSTART;VALUE=DATE:20250601
DTEND;VALUE=DATE:20250701
DTSTAMP:20260425T230727
CREATED:20250607T154822Z
LAST-MODIFIED:20250607T154822Z
UID:5914-1748736000-1751327999@batutalam.nadi.my
SUMMARY:WELLBEING : Advocacy (Studio Sihat)
DESCRIPTION:
URL:https://batutalam.nadi.my/event/wellbeing-advocacy-studio-sihat/
END:VEVENT
BEGIN:VEVENT
DTSTART;VALUE=DATE:20250601
DTEND;VALUE=DATE:20250623
DTSTAMP:20260425T230727
CREATED:20250607T153151Z
LAST-MODIFIED:20250607T153151Z
UID:5889-1748736000-1750636799@batutalam.nadi.my
SUMMARY:MAHIR : JAHIT & PERTANIAN PINTAR
DESCRIPTION:
URL:https://batutalam.nadi.my/event/mahir-jahit-pertanian-pintar/
END:VEVENT
BEGIN:VEVENT
DTSTART;TZID=Asia/Kuala_Lumpur:20250531T093000
DTEND;TZID=Asia/Kuala_Lumpur:20250531T103000
DTSTAMP:20260425T230727
CREATED:20250507T013250Z
LAST-MODIFIED:20250507T013250Z
UID:5685-1748683800-1748687400@batutalam.nadi.my
SUMMARY:MAHIR BAIKI GAJET
DESCRIPTION:
URL:https://batutalam.nadi.my/event/mahir-baiki-gajet-5/
END:VEVENT
BEGIN:VEVENT
DTSTART;TZID=Asia/Kuala_Lumpur:20250530T150000
DTEND;TZID=Asia/Kuala_Lumpur:20250530T170000
DTSTAMP:20260425T230727
CREATED:20250507T012409Z
LAST-MODIFIED:20250507T012409Z
UID:5665-1748617200-1748624400@batutalam.nadi.my
SUMMARY:E-LEARNING
DESCRIPTION:
URL:https://batutalam.nadi.my/event/e-learning-86/
ORGANIZER;CN="NADI Batu Talam":MAILTO:nadibatutalam@gmail.com
END:VEVENT
BEGIN:VEVENT
DTSTART;TZID=Asia/Kuala_Lumpur:20250527T083000
DTEND;TZID=Asia/Kuala_Lumpur:20250527T103000
DTSTAMP:20260425T230727
CREATED:20250507T012911Z
LAST-MODIFIED:20250507T012911Z
UID:5673-1748334600-1748341800@batutalam.nadi.my
SUMMARY:MAHIR MASAK
DESCRIPTION:
URL:https://batutalam.nadi.my/event/mahir-masak-4/
END:VEVENT
BEGIN:VEVENT
DTSTART;TZID=Asia/Kuala_Lumpur:20250525T110000
DTEND;TZID=Asia/Kuala_Lumpur:20250525T120000
DTSTAMP:20260425T230727
CREATED:20250507T013537Z
LAST-MODIFIED:20250507T013537Z
UID:5693-1748170800-1748174400@batutalam.nadi.my
SUMMARY:MAHIR PERTANIAN PINTAR
DESCRIPTION:
URL:https://batutalam.nadi.my/event/mahir-pertanian-pintar-4/
END:VEVENT
BEGIN:VEVENT
DTSTART;TZID=Asia/Kuala_Lumpur:20250525T100000
DTEND;TZID=Asia/Kuala_Lumpur:20250525T120000
DTSTAMP:20260425T230727
CREATED:20250507T012334Z
LAST-MODIFIED:20250507T012334Z
UID:5663-1748167200-1748174400@batutalam.nadi.my
SUMMARY:STEM/IOT
DESCRIPTION:
URL:https://batutalam.nadi.my/event/stem-iot-42/
ORGANIZER;CN="NADI Batu Talam":MAILTO:nadibatutalam@gmail.com
END:VEVENT
BEGIN:VEVENT
DTSTART;TZID=Asia/Kuala_Lumpur:20250524T100000
DTEND;TZID=Asia/Kuala_Lumpur:20250524T120000
DTSTAMP:20260425T230727
CREATED:20250507T012256Z
LAST-MODIFIED:20250507T012256Z
UID:5661-1748080800-1748088000@batutalam.nadi.my
SUMMARY:KEUSAHAWANAN
DESCRIPTION:
URL:https://batutalam.nadi.my/event/keusahawanan-38/
ORGANIZER;CN="NADI Batu Talam":MAILTO:nadibatutalam@gmail.com
END:VEVENT
BEGIN:VEVENT
DTSTART;TZID=Asia/Kuala_Lumpur:20250524T093000
DTEND;TZID=Asia/Kuala_Lumpur:20250524T103000
DTSTAMP:20260425T230727
CREATED:20250507T013216Z
LAST-MODIFIED:20250507T013216Z
UID:5683-1748079000-1748082600@batutalam.nadi.my
SUMMARY:MAHIR BAIKI GAJET
DESCRIPTION:
URL:https://batutalam.nadi.my/event/mahir-baiki-gajet-4/
END:VEVENT
BEGIN:VEVENT
DTSTART;TZID=Asia/Kuala_Lumpur:20250520T093000
DTEND;TZID=Asia/Kuala_Lumpur:20250520T103000
DTSTAMP:20260425T230727
CREATED:20250507T012839Z
LAST-MODIFIED:20250507T012839Z
UID:5671-1747733400-1747737000@batutalam.nadi.my
SUMMARY:MAHIR MASAK
DESCRIPTION:
URL:https://batutalam.nadi.my/event/mahir-masak-3/
END:VEVENT
BEGIN:VEVENT
DTSTART;TZID=Asia/Kuala_Lumpur:20250518T110000
DTEND;TZID=Asia/Kuala_Lumpur:20250518T120000
DTSTAMP:20260425T230727
CREATED:20250507T013507Z
LAST-MODIFIED:20250507T013507Z
UID:5691-1747566000-1747569600@batutalam.nadi.my
SUMMARY:MAHIR PERTANIAN PINTAR
DESCRIPTION:
URL:https://batutalam.nadi.my/event/mahir-pertanian-pintar-3/
END:VEVENT
BEGIN:VEVENT
DTSTART;TZID=Asia/Kuala_Lumpur:20250518T100000
DTEND;TZID=Asia/Kuala_Lumpur:20250518T120000
DTSTAMP:20260425T230727
CREATED:20250507T012214Z
LAST-MODIFIED:20250507T012214Z
UID:5659-1747562400-1747569600@batutalam.nadi.my
SUMMARY:STEM/IOT
DESCRIPTION:
URL:https://batutalam.nadi.my/event/stem-iot-41/
ORGANIZER;CN="NADI Batu Talam":MAILTO:nadibatutalam@gmail.com
END:VEVENT
BEGIN:VEVENT
DTSTART;TZID=Asia/Kuala_Lumpur:20250517T100000
DTEND;TZID=Asia/Kuala_Lumpur:20250517T120000
DTSTAMP:20260425T230727
CREATED:20250507T012104Z
LAST-MODIFIED:20250507T012104Z
UID:5657-1747476000-1747483200@batutalam.nadi.my
SUMMARY:KEUSAHAWANAN
DESCRIPTION:
URL:https://batutalam.nadi.my/event/keusahawanan-37/
ORGANIZER;CN="NADI Batu Talam":MAILTO:nadibatutalam@gmail.com
END:VEVENT
BEGIN:VEVENT
DTSTART;TZID=Asia/Kuala_Lumpur:20250517T093000
DTEND;TZID=Asia/Kuala_Lumpur:20250517T103000
DTSTAMP:20260425T230727
CREATED:20250507T013138Z
LAST-MODIFIED:20250507T013138Z
UID:5681-1747474200-1747477800@batutalam.nadi.my
SUMMARY:MAHIR BAIKI GAJET
DESCRIPTION:
URL:https://batutalam.nadi.my/event/mahir-baiki-gajet-3/
END:VEVENT
BEGIN:VEVENT
DTSTART;TZID=Asia/Kuala_Lumpur:20250516T150000
DTEND;TZID=Asia/Kuala_Lumpur:20250516T170000
DTSTAMP:20260425T230727
CREATED:20250507T012008Z
LAST-MODIFIED:20250507T012008Z
UID:5655-1747407600-1747414800@batutalam.nadi.my
SUMMARY:ICT
DESCRIPTION:
URL:https://batutalam.nadi.my/event/ict-10/
ORGANIZER;CN="NADI Batu Talam":MAILTO:nadibatutalam@gmail.com
END:VEVENT
BEGIN:VEVENT
DTSTART;TZID=Asia/Kuala_Lumpur:20250513T093000
DTEND;TZID=Asia/Kuala_Lumpur:20250513T103000
DTSTAMP:20260425T230727
CREATED:20250507T012716Z
LAST-MODIFIED:20250507T012716Z
UID:5669-1747128600-1747132200@batutalam.nadi.my
SUMMARY:MAHIR MASAK
DESCRIPTION:
URL:https://batutalam.nadi.my/event/mahir-masak-2/
END:VEVENT
BEGIN:VEVENT
DTSTART;TZID=Asia/Kuala_Lumpur:20250511T110000
DTEND;TZID=Asia/Kuala_Lumpur:20250511T120000
DTSTAMP:20260425T230727
CREATED:20250507T013444Z
LAST-MODIFIED:20250507T013444Z
UID:5689-1746961200-1746964800@batutalam.nadi.my
SUMMARY:MAHIR PERTANIAN PINTAR
DESCRIPTION:
URL:https://batutalam.nadi.my/event/mahir-pertanian-pintar-2/
END:VEVENT
BEGIN:VEVENT
DTSTART;TZID=Asia/Kuala_Lumpur:20250510T093000
DTEND;TZID=Asia/Kuala_Lumpur:20250510T103000
DTSTAMP:20260425T230727
CREATED:20250507T013100Z
LAST-MODIFIED:20250507T013100Z
UID:5679-1746869400-1746873000@batutalam.nadi.my
SUMMARY:MAHIR BAIKI GAJET
DESCRIPTION:
URL:https://batutalam.nadi.my/event/mahir-baiki-gajet-2/
END:VEVENT
BEGIN:VEVENT
DTSTART;TZID=Asia/Kuala_Lumpur:20250509T030000
DTEND;TZID=Asia/Kuala_Lumpur:20250509T170000
DTSTAMP:20260425T230727
CREATED:20250507T011918Z
LAST-MODIFIED:20250507T011918Z
UID:5653-1746759600-1746810000@batutalam.nadi.my
SUMMARY:SOFT SKILLS
DESCRIPTION:
URL:https://batutalam.nadi.my/event/soft-skills-30/
ORGANIZER;CN="NADI Batu Talam":MAILTO:nadibatutalam@gmail.com
END:VEVENT
BEGIN:VEVENT
DTSTART;TZID=Asia/Kuala_Lumpur:20250508T030000
DTEND;TZID=Asia/Kuala_Lumpur:20250508T170000
DTSTAMP:20260425T230727
CREATED:20250507T011822Z
LAST-MODIFIED:20250507T011822Z
UID:5651-1746673200-1746723600@batutalam.nadi.my
SUMMARY:ICT
DESCRIPTION:
URL:https://batutalam.nadi.my/event/ict-9/
ORGANIZER;CN="NADI Batu Talam":MAILTO:nadibatutalam@gmail.com
END:VEVENT
BEGIN:VEVENT
DTSTART;TZID=Asia/Kuala_Lumpur:20250506T093000
DTEND;TZID=Asia/Kuala_Lumpur:20250506T103000
DTSTAMP:20260425T230727
CREATED:20250507T012637Z
LAST-MODIFIED:20250507T012637Z
UID:5667-1746523800-1746527400@batutalam.nadi.my
SUMMARY:MAHIR MASAK
DESCRIPTION:
URL:https://batutalam.nadi.my/event/mahir-masak/
END:VEVENT
BEGIN:VEVENT
DTSTART;TZID=Asia/Kuala_Lumpur:20250504T110000
DTEND;TZID=Asia/Kuala_Lumpur:20250504T120000
DTSTAMP:20260425T230727
CREATED:20250507T013413Z
LAST-MODIFIED:20250507T013413Z
UID:5687-1746356400-1746360000@batutalam.nadi.my
SUMMARY:MAHIR PERTANIAN PINTAR
DESCRIPTION:
URL:https://batutalam.nadi.my/event/mahir-pertanian-pintar/
END:VEVENT
BEGIN:VEVENT
DTSTART;TZID=Asia/Kuala_Lumpur:20250503T093000
DTEND;TZID=Asia/Kuala_Lumpur:20250503T103000
DTSTAMP:20260425T230727
CREATED:20250507T013024Z
LAST-MODIFIED:20250507T013024Z
UID:5677-1746264600-1746268200@batutalam.nadi.my
SUMMARY:MAHIR BAIKI GAJET
DESCRIPTION:
URL:https://batutalam.nadi.my/event/mahir-baiki-gajet/
END:VEVENT
END:VCALENDAR