BEGIN:VCALENDAR
VERSION:2.0
PRODID:-//NADI Batu Talam - ECPv6.15.20//NONSGML v1.0//EN
CALSCALE:GREGORIAN
METHOD:PUBLISH
X-WR-CALNAME:NADI Batu Talam
X-ORIGINAL-URL:https://batutalam.nadi.my
X-WR-CALDESC:Events for NADI Batu Talam
REFRESH-INTERVAL;VALUE=DURATION:PT1H
X-Robots-Tag:noindex
X-PUBLISHED-TTL:PT1H
BEGIN:VTIMEZONE
TZID:Asia/Kuala_Lumpur
BEGIN:STANDARD
TZOFFSETFROM:+0800
TZOFFSETTO:+0800
TZNAME:+08
DTSTART:20240101T000000
END:STANDARD
END:VTIMEZONE
BEGIN:VEVENT
DTSTART;TZID=Asia/Kuala_Lumpur:20250719T090000
DTEND;TZID=Asia/Kuala_Lumpur:20250719T180000
DTSTAMP:20260424T231314
CREATED:20250708T081352Z
LAST-MODIFIED:20250708T081352Z
UID:6028-1752915600-1752948000@batutalam.nadi.my
SUMMARY:Awareness: SAFE - Fake News; SHIELD - Malware
DESCRIPTION:
URL:https://batutalam.nadi.my/event/awareness-safe-fake-news-shield-malware/
LOCATION:NADI BATU TALAM\, PERUMAHAN BATU TALAM\, RAUB\, Pahang\, 27610\, Malaysia
END:VEVENT
BEGIN:VEVENT
DTSTART;TZID=Asia/Kuala_Lumpur:20250718T090000
DTEND;TZID=Asia/Kuala_Lumpur:20250720T180000
DTSTAMP:20260424T231314
CREATED:20250708T081312Z
LAST-MODIFIED:20250708T081318Z
UID:6026-1752829200-1753034400@batutalam.nadi.my
SUMMARY:E-Sports: Classes (Pensiulan)
DESCRIPTION:
URL:https://batutalam.nadi.my/event/e-sports-classes-pensiulan/
LOCATION:NADI BATU TALAM\, PERUMAHAN BATU TALAM\, RAUB\, Pahang\, 27610\, Malaysia
END:VEVENT
BEGIN:VEVENT
DTSTART;TZID=Asia/Kuala_Lumpur:20250715T090000
DTEND;TZID=Asia/Kuala_Lumpur:20250718T180000
DTSTAMP:20260424T231314
CREATED:20250708T081227Z
LAST-MODIFIED:20250708T081239Z
UID:6024-1752570000-1752861600@batutalam.nadi.my
SUMMARY:DiLea: English Proficiency #13 (15–18 July
DESCRIPTION:
URL:https://batutalam.nadi.my/event/dilea-english-proficiency-13-15-18-july/
LOCATION:NADI BATU TALAM\, PERUMAHAN BATU TALAM\, RAUB\, Pahang\, 27610\, Malaysia
END:VEVENT
BEGIN:VEVENT
DTSTART;TZID=Asia/Kuala_Lumpur:20250714T090000
DTEND;TZID=Asia/Kuala_Lumpur:20250720T180000
DTSTAMP:20260424T231314
CREATED:20250708T081137Z
LAST-MODIFIED:20250708T081137Z
UID:6022-1752483600-1753034400@batutalam.nadi.my
SUMMARY:KidVenture (Cohort 4): Video 1 - Pelan Perniagaan
DESCRIPTION:
URL:https://batutalam.nadi.my/event/kidventure-cohort-4-video-1-pelan-perniagaan/
LOCATION:NADI BATU TALAM\, PERUMAHAN BATU TALAM\, RAUB\, Pahang\, 27610\, Malaysia
END:VEVENT
BEGIN:VEVENT
DTSTART;TZID=Asia/Kuala_Lumpur:20250714T090000
DTEND;TZID=Asia/Kuala_Lumpur:20250720T180000
DTSTAMP:20260424T231314
CREATED:20250708T080910Z
LAST-MODIFIED:20250708T080910Z
UID:6018-1752483600-1753034400@batutalam.nadi.my
SUMMARY:Usahawan (Cohort 4): Podcast Empower - Nak Jual Muka ke Jual Produk?
DESCRIPTION:
URL:https://batutalam.nadi.my/event/usahawan-cohort-4-podcast-empower-nak-jual-muka-ke-jual-produk/
LOCATION:NADI BATU TALAM\, PERUMAHAN BATU TALAM\, RAUB\, Pahang\, 27610\, Malaysia
END:VEVENT
BEGIN:VEVENT
DTSTART;TZID=Asia/Kuala_Lumpur:20250714T090000
DTEND;TZID=Asia/Kuala_Lumpur:20250720T170000
DTSTAMP:20260424T231314
CREATED:20250708T081020Z
LAST-MODIFIED:20250708T081020Z
UID:6020-1752483600-1753030800@batutalam.nadi.my
SUMMARY:KidVenture (Cohort 3): Webinar 3 - Pemasaran
DESCRIPTION:
URL:https://batutalam.nadi.my/event/kidventure-cohort-3-webinar-3-pemasaran/
LOCATION:NADI BATU TALAM\, PERUMAHAN BATU TALAM\, RAUB\, Pahang\, 27610\, Malaysia
END:VEVENT
BEGIN:VEVENT
DTSTART;TZID=Asia/Kuala_Lumpur:20250711T090000
DTEND;TZID=Asia/Kuala_Lumpur:20250713T180000
DTSTAMP:20260424T231314
CREATED:20250708T080803Z
LAST-MODIFIED:20250708T080803Z
UID:6016-1752224400-1752429600@batutalam.nadi.my
SUMMARY:E-Sports: Classes (Kesedaran)
DESCRIPTION:
URL:https://batutalam.nadi.my/event/e-sports-classes-kesedaran-2/
LOCATION:NADI BATU TALAM\, PERUMAHAN BATU TALAM\, RAUB\, Pahang\, 27610\, Malaysia
END:VEVENT
BEGIN:VEVENT
DTSTART;TZID=Asia/Kuala_Lumpur:20250707T090000
DTEND;TZID=Asia/Kuala_Lumpur:20250713T180000
DTSTAMP:20260424T231314
CREATED:20250708T080559Z
LAST-MODIFIED:20250708T080559Z
UID:6014-1751878800-1752429600@batutalam.nadi.my
SUMMARY:KidVenture (Cohort 3): Video - Operasi Perniagaan
DESCRIPTION:
URL:https://batutalam.nadi.my/event/kidventure-cohort-3-video-operasi-perniagaan/
LOCATION:NADI BATU TALAM\, PERUMAHAN BATU TALAM\, RAUB\, Pahang\, 27610\, Malaysia
END:VEVENT
BEGIN:VEVENT
DTSTART;TZID=Asia/Kuala_Lumpur:20250707T090000
DTEND;TZID=Asia/Kuala_Lumpur:20250713T180000
DTSTAMP:20260424T231314
CREATED:20250708T080458Z
LAST-MODIFIED:20250708T080458Z
UID:6012-1751878800-1752429600@batutalam.nadi.my
SUMMARY:Usahawan (Cohort 4): Webinar - Pengurusan Kewangan & Perancangan Perniagaan
DESCRIPTION:
URL:https://batutalam.nadi.my/event/usahawan-cohort-4-webinar-pengurusan-kewangan-perancangan-perniagaan/
LOCATION:NADI BATU TALAM\, PERUMAHAN BATU TALAM\, RAUB\, Pahang\, 27610\, Malaysia
END:VEVENT
BEGIN:VEVENT
DTSTART;TZID=Asia/Kuala_Lumpur:20250705T090000
DTEND;TZID=Asia/Kuala_Lumpur:20250705T180000
DTSTAMP:20260424T231314
CREATED:20250708T080006Z
LAST-MODIFIED:20250708T080028Z
UID:6008-1751706000-1751738400@batutalam.nadi.my
SUMMARY:Government: Programme (11 AM – 12 PM)
DESCRIPTION:
URL:https://batutalam.nadi.my/event/government-programme-11-am-12-pm/
LOCATION:NADI BATU TALAM\, PERUMAHAN BATU TALAM\, RAUB\, Pahang\, 27610\, Malaysia
ORGANIZER;CN="NADI Batu Talam":MAILTO:nadibatutalam@gmail.com
END:VEVENT
BEGIN:VEVENT
DTSTART;TZID=Asia/Kuala_Lumpur:20250705T080000
DTEND;TZID=Asia/Kuala_Lumpur:20250706T180000
DTSTAMP:20260424T231314
CREATED:20250708T080122Z
LAST-MODIFIED:20250708T080122Z
UID:6010-1751702400-1751824800@batutalam.nadi.my
SUMMARY:MAHIR: State/Region Engagement Forum
DESCRIPTION:
URL:https://batutalam.nadi.my/event/mahir-state-region-engagement-forum/
LOCATION:NADI BATU TALAM\, PERUMAHAN BATU TALAM\, RAUB\, Pahang\, 27610\, Malaysia
END:VEVENT
BEGIN:VEVENT
DTSTART;TZID=Asia/Kuala_Lumpur:20250704T090000
DTEND;TZID=Asia/Kuala_Lumpur:20250706T180000
DTSTAMP:20260424T231314
CREATED:20250708T075847Z
LAST-MODIFIED:20250708T075847Z
UID:6006-1751619600-1751824800@batutalam.nadi.my
SUMMARY:E-Sports: Classes (Kesedaran)
DESCRIPTION:
URL:https://batutalam.nadi.my/event/e-sports-classes-kesedaran/
LOCATION:NADI BATU TALAM\, PERUMAHAN BATU TALAM\, RAUB\, Pahang\, 27610\, Malaysia
END:VEVENT
BEGIN:VEVENT
DTSTART;TZID=Asia/Kuala_Lumpur:20250701T090000
DTEND;TZID=Asia/Kuala_Lumpur:20250704T180000
DTSTAMP:20260424T231314
CREATED:20250708T075734Z
LAST-MODIFIED:20250708T075734Z
UID:6004-1751360400-1751652000@batutalam.nadi.my
SUMMARY:DiLea: English Proficiency #1
DESCRIPTION:
URL:https://batutalam.nadi.my/event/dilea-english-proficiency-1/
LOCATION:NADI BATU TALAM\, PERUMAHAN BATU TALAM\, RAUB\, Pahang\, 27610\, Malaysia
END:VEVENT
BEGIN:VEVENT
DTSTART;TZID=Asia/Kuala_Lumpur:20250630T080000
DTEND;TZID=Asia/Kuala_Lumpur:20250630T170000
DTSTAMP:20260424T231314
CREATED:20250607T010030Z
LAST-MODIFIED:20250607T151339Z
UID:5850-1751270400-1751302800@batutalam.nadi.my
SUMMARY:USAHAWAN_COHORT 3: PODCAST NADIPREUR - PERANAN VISUAL DALAM STRATEGI PEMASARAN
DESCRIPTION:
URL:https://batutalam.nadi.my/event/cohort-3-podcast-nadipreur-peranan-visual-dalam-strategi-pemasaran/
LOCATION:Pahang
END:VEVENT
BEGIN:VEVENT
DTSTART;TZID=Asia/Kuala_Lumpur:20250629T090000
DTEND;TZID=Asia/Kuala_Lumpur:20250630T180000
DTSTAMP:20260424T231314
CREATED:20250607T152323Z
LAST-MODIFIED:20250607T152323Z
UID:5878-1751187600-1751306400@batutalam.nadi.my
SUMMARY:DiLea : Podcast Ep 4
DESCRIPTION:
URL:https://batutalam.nadi.my/event/dilea-podcast-ep-4/
LOCATION:Pahang
END:VEVENT
BEGIN:VEVENT
DTSTART;TZID=Asia/Kuala_Lumpur:20250628T090000
DTEND;TZID=Asia/Kuala_Lumpur:20250628T180000
DTSTAMP:20260424T231314
CREATED:20250607T152224Z
LAST-MODIFIED:20250607T152224Z
UID:5876-1751101200-1751133600@batutalam.nadi.my
SUMMARY:DiLea : Webinar Sejarah Edisi 2
DESCRIPTION:
URL:https://batutalam.nadi.my/event/dilea-webinar-sejarah-edisi-2/
LOCATION:Pahang
END:VEVENT
BEGIN:VEVENT
DTSTART;VALUE=DATE:20250627
DTEND;VALUE=DATE:20250630
DTSTAMP:20260424T231314
CREATED:20250607T151616Z
LAST-MODIFIED:20250607T151616Z
UID:5866-1750982400-1751241599@batutalam.nadi.my
SUMMARY:E-SUKAN_KELAS PENSIJILAN : ASAS PEMAKANAN SUKAN BAGI ATLET REMAJA EP.2
DESCRIPTION:
URL:https://batutalam.nadi.my/event/e-sukan_kelas-pensijilan-asas-pemakanan-sukan-bagi-atlet-remaja-ep-2/
LOCATION:Pahang
END:VEVENT
BEGIN:VEVENT
DTSTART;TZID=Asia/Kuala_Lumpur:20250626T090000
DTEND;TZID=Asia/Kuala_Lumpur:20250626T180000
DTSTAMP:20260424T231314
CREATED:20250607T152916Z
LAST-MODIFIED:20250607T152916Z
UID:5887-1750928400-1750960800@batutalam.nadi.my
SUMMARY:EKELAS : MODULE 1 & 2
DESCRIPTION:
URL:https://batutalam.nadi.my/event/ekelas-module-1-2-3/
LOCATION:Pahang
END:VEVENT
BEGIN:VEVENT
DTSTART;TZID=Asia/Kuala_Lumpur:20250623T150000
DTEND;TZID=Asia/Kuala_Lumpur:20250629T163000
DTSTAMP:20260424T231314
CREATED:20250607T154557Z
LAST-MODIFIED:20250607T154557Z
UID:5910-1750690800-1751214600@batutalam.nadi.my
SUMMARY:CYBERSECURITY : WEBINAR
DESCRIPTION:
URL:https://batutalam.nadi.my/event/cybersecurity-webinar-2/
LOCATION:Pahang
END:VEVENT
BEGIN:VEVENT
DTSTART;TZID=Asia/Kuala_Lumpur:20250623T090000
DTEND;TZID=Asia/Kuala_Lumpur:20250626T180000
DTSTAMP:20260424T231314
CREATED:20250607T152121Z
LAST-MODIFIED:20250607T152121Z
UID:5874-1750669200-1750960800@batutalam.nadi.my
SUMMARY:DiLea : English Proficiency #11
DESCRIPTION:
URL:https://batutalam.nadi.my/event/dilea-english-proficiency-11/
LOCATION:Pahang
END:VEVENT
BEGIN:VEVENT
DTSTART;TZID=Asia/Kuala_Lumpur:20250623T090000
DTEND;TZID=Asia/Kuala_Lumpur:20250623T180000
DTSTAMP:20260424T231314
CREATED:20250607T152847Z
LAST-MODIFIED:20250607T152847Z
UID:5885-1750669200-1750701600@batutalam.nadi.my
SUMMARY:EKELAS : MODULE 1 & 2
DESCRIPTION:
URL:https://batutalam.nadi.my/event/ekelas-module-1-2-2/
LOCATION:Pahang
END:VEVENT
BEGIN:VEVENT
DTSTART;VALUE=DATE:20250623
DTEND;VALUE=DATE:20250630
DTSTAMP:20260424T231314
CREATED:20250607T154650Z
LAST-MODIFIED:20250607T154650Z
UID:5912-1750636800-1751241599@batutalam.nadi.my
SUMMARY:CYBERSECURITY : CTF PRELIMINARY ROUND
DESCRIPTION:
URL:https://batutalam.nadi.my/event/cybersecurity-ctf-preliminary-round/
LOCATION:Pahang
END:VEVENT
BEGIN:VEVENT
DTSTART;VALUE=DATE:20250623
DTEND;VALUE=DATE:20250630
DTSTAMP:20260424T231314
CREATED:20250607T010038Z
LAST-MODIFIED:20250607T151323Z
UID:5848-1750636800-1751241599@batutalam.nadi.my
SUMMARY:USAHAWAN_COHORT 3: PODCAST NADIPREUR - PERANAN VISUAL DALAM STRATEGI PEMASARAN PERNIAGAAN
DESCRIPTION:
URL:https://batutalam.nadi.my/event/cohort-3-podcast-nadipreur-peranan-visual-dalam-strategi-pemasaran-perniagaan/
LOCATION:Pahang
END:VEVENT
BEGIN:VEVENT
DTSTART;TZID=Asia/Kuala_Lumpur:20250622T100000
DTEND;TZID=Asia/Kuala_Lumpur:20250622T120000
DTSTAMP:20260424T231314
CREATED:20250607T153720Z
LAST-MODIFIED:20250607T153959Z
UID:5899-1750586400-1750593600@batutalam.nadi.my
SUMMARY:TINY TECHIES : Mentor Sesi 5 (Rendah & Menengah)
DESCRIPTION:
URL:https://batutalam.nadi.my/event/tn-techies-mentor-sesi-5-rendah-menengah-ked-kel-tgg/
LOCATION:Pahang
END:VEVENT
BEGIN:VEVENT
DTSTART;TZID=Asia/Kuala_Lumpur:20250621T100000
DTEND;TZID=Asia/Kuala_Lumpur:20250621T120000
DTSTAMP:20260424T231314
CREATED:20250607T153636Z
LAST-MODIFIED:20250607T153636Z
UID:5897-1750500000-1750507200@batutalam.nadi.my
SUMMARY:TINY TECHIES : Santai bersama Pakcik Lan (Rendah\, Menengah & IbuBapa)
DESCRIPTION:
URL:https://batutalam.nadi.my/event/tiny-techies-santai-bersama-pakcik-lan-rendah-menengah-ibubapa/
LOCATION:Pahang
END:VEVENT
BEGIN:VEVENT
DTSTART;TZID=Asia/Kuala_Lumpur:20250621T090000
DTEND;TZID=Asia/Kuala_Lumpur:20250621T180000
DTSTAMP:20260424T231314
CREATED:20250607T152033Z
LAST-MODIFIED:20250607T152356Z
UID:5872-1750496400-1750528800@batutalam.nadi.my
SUMMARY:DiLeas : Webinar Matematik Edisi 2
DESCRIPTION:
URL:https://batutalam.nadi.my/event/webinar-matematik-edisi-2/
LOCATION:Pahang
END:VEVENT
BEGIN:VEVENT
DTSTART;VALUE=DATE:20250620
DTEND;VALUE=DATE:20250623
DTSTAMP:20260424T231314
CREATED:20250607T151534Z
LAST-MODIFIED:20250607T151534Z
UID:5864-1750377600-1750636799@batutalam.nadi.my
SUMMARY:E-SUKAN_KELAS PENSIJILAN : ASAS PEMAKANAN SUKAN BAGI ATLET REMAJA EP.1
DESCRIPTION:
URL:https://batutalam.nadi.my/event/e-sukan_kelas-pensijilan-asas-pemakanan-sukan-bagi-atlet-remaja-ep-1/
LOCATION:Pahang
END:VEVENT
BEGIN:VEVENT
DTSTART;VALUE=DATE:20250616
DTEND;VALUE=DATE:20250623
DTSTAMP:20260424T231314
CREATED:20250607T154445Z
LAST-MODIFIED:20250607T154445Z
UID:5908-1750032000-1750636799@batutalam.nadi.my
SUMMARY:CYBERSECURITY : CTF
DESCRIPTION:
URL:https://batutalam.nadi.my/event/cybersecurity-ctf-2/
LOCATION:Pahang
END:VEVENT
BEGIN:VEVENT
DTSTART;VALUE=DATE:20250616
DTEND;VALUE=DATE:20250623
DTSTAMP:20260424T231314
CREATED:20250607T010028Z
LAST-MODIFIED:20250607T151312Z
UID:5846-1750032000-1750636799@batutalam.nadi.my
SUMMARY:USAHAWAN_COHORT 3: PODCAST EMPOWHER - BERKONGSI HIDUP & PERNIAGAAN EDISI EKSPRES: NADI X KEUSAHAWANAN
DESCRIPTION:
URL:https://batutalam.nadi.my/event/cohort-3-podcast-empowher-berkongsi-hidup-perniagaanedisi-ekspres-nadi-x-keusahawanan/
LOCATION:Pahang
END:VEVENT
BEGIN:VEVENT
DTSTART;VALUE=DATE:20250616
DTEND;VALUE=DATE:20250620
DTSTAMP:20260424T231314
CREATED:20250607T152743Z
LAST-MODIFIED:20250607T152743Z
UID:5883-1750032000-1750377599@batutalam.nadi.my
SUMMARY:EKELAS : MODULE 3 & 4
DESCRIPTION:
URL:https://batutalam.nadi.my/event/ekelas-module-3-4/
LOCATION:Pahang
END:VEVENT
END:VCALENDAR