BEGIN:VCALENDAR
VERSION:2.0
PRODID:-//NADI Batu Talam - ECPv6.15.20//NONSGML v1.0//EN
CALSCALE:GREGORIAN
METHOD:PUBLISH
X-WR-CALNAME:NADI Batu Talam
X-ORIGINAL-URL:https://batutalam.nadi.my
X-WR-CALDESC:Events for NADI Batu Talam
REFRESH-INTERVAL;VALUE=DURATION:PT1H
X-Robots-Tag:noindex
X-PUBLISHED-TTL:PT1H
BEGIN:VTIMEZONE
TZID:Asia/Kuala_Lumpur
BEGIN:STANDARD
TZOFFSETFROM:+0800
TZOFFSETTO:+0800
TZNAME:+08
DTSTART:20240101T000000
END:STANDARD
END:VTIMEZONE
BEGIN:VEVENT
DTSTART;TZID=Asia/Kuala_Lumpur:20251017T090000
DTEND;TZID=Asia/Kuala_Lumpur:20251019T180000
DTSTAMP:20260420T133655
CREATED:20251008T093850Z
LAST-MODIFIED:20251008T093850Z
UID:6350-1760691600-1760896800@batutalam.nadi.my
SUMMARY:DILEA : GUIDANCE TUITION
DESCRIPTION:
URL:https://batutalam.nadi.my/event/dilea-guidance-tuition/
LOCATION:NADI BATU TALAM\, PERUMAHAN BATU TALAM\, RAUB\, Pahang\, 27610\, Malaysia
END:VEVENT
BEGIN:VEVENT
DTSTART;TZID=Asia/Kuala_Lumpur:20251016T090000
DTEND;TZID=Asia/Kuala_Lumpur:20251022T180000
DTSTAMP:20260420T133655
CREATED:20251008T093939Z
LAST-MODIFIED:20251008T093939Z
UID:6352-1760605200-1761156000@batutalam.nadi.my
SUMMARY:DILEA : OPEN TUITION & REVISION VIDEO
DESCRIPTION:
URL:https://batutalam.nadi.my/event/dilea-open-tuition-revision-video/
LOCATION:NADI BATU TALAM\, PERUMAHAN BATU TALAM\, RAUB\, Pahang\, 27610\, Malaysia
END:VEVENT
BEGIN:VEVENT
DTSTART;TZID=Asia/Kuala_Lumpur:20251016T090000
DTEND;TZID=Asia/Kuala_Lumpur:20251016T180000
DTSTAMP:20260420T133655
CREATED:20251008T093711Z
LAST-MODIFIED:20251008T093711Z
UID:6346-1760605200-1760637600@batutalam.nadi.my
SUMMARY:USAHAWAN : COHORT 5 - WEBINAR PEMASARAN & OPERASI PERNIAGAAN
DESCRIPTION:
URL:https://batutalam.nadi.my/event/usahawan-cohort-5-webinar-pemasaran-operasi-perniagaan/
LOCATION:NADI BATU TALAM\, PERUMAHAN BATU TALAM\, RAUB\, Pahang\, 27610\, Malaysia
END:VEVENT
BEGIN:VEVENT
DTSTART;TZID=Asia/Kuala_Lumpur:20251013T090000
DTEND;TZID=Asia/Kuala_Lumpur:20251016T180000
DTSTAMP:20260420T133655
CREATED:20251008T094252Z
LAST-MODIFIED:20251008T094252Z
UID:6358-1760346000-1760637600@batutalam.nadi.my
SUMMARY:KIS : LINDUNGI DATA PERIBADI & BULI SIBER
DESCRIPTION:
URL:https://batutalam.nadi.my/event/kis-lindungi-data-peribadi-buli-siber/
LOCATION:NADI BATU TALAM\, PERUMAHAN BATU TALAM\, RAUB\, Pahang\, 27610\, Malaysia
END:VEVENT
BEGIN:VEVENT
DTSTART;TZID=Asia/Kuala_Lumpur:20251013T090000
DTEND;TZID=Asia/Kuala_Lumpur:20251013T180000
DTSTAMP:20260420T133655
CREATED:20251008T093757Z
LAST-MODIFIED:20251008T093757Z
UID:6348-1760346000-1760378400@batutalam.nadi.my
SUMMARY:KIDVENTURE : COHORT 6 & COHORT 7
DESCRIPTION:
URL:https://batutalam.nadi.my/event/kidventure-cohort-6-cohort-7/
LOCATION:NADI BATU TALAM\, PERUMAHAN BATU TALAM\, RAUB\, Pahang\, 27610\, Malaysia
END:VEVENT
BEGIN:VEVENT
DTSTART;TZID=Asia/Kuala_Lumpur:20251011T090000
DTEND;TZID=Asia/Kuala_Lumpur:20251011T180000
DTSTAMP:20260420T133655
CREATED:20251008T093341Z
LAST-MODIFIED:20251008T093341Z
UID:6338-1760173200-1760205600@batutalam.nadi.my
SUMMARY:TINY TECHIES : ROBOTICS & INNOVATION CLASS
DESCRIPTION:
URL:https://batutalam.nadi.my/event/tiny-techies-robotics-innovation-class/
LOCATION:NADI BATU TALAM\, PERUMAHAN BATU TALAM\, RAUB\, Pahang\, 27610\, Malaysia
END:VEVENT
BEGIN:VEVENT
DTSTART;TZID=Asia/Kuala_Lumpur:20251011T090000
DTEND;TZID=Asia/Kuala_Lumpur:20251011T180000
DTSTAMP:20260420T133655
CREATED:20251008T092928Z
LAST-MODIFIED:20251008T092928Z
UID:6330-1760173200-1760205600@batutalam.nadi.my
SUMMARY:KIDVENTURE : COHORT 6 WEBINAR PELAN PERNIAGAAN PERTAMA SAYA
DESCRIPTION:
URL:https://batutalam.nadi.my/event/kidventure-cohort-6-webinar-pelan-perniagaan-pertama-saya/
LOCATION:NADI BATU TALAM\, PERUMAHAN BATU TALAM\, RAUB\, Pahang\, 27610\, Malaysia
END:VEVENT
BEGIN:VEVENT
DTSTART;TZID=Asia/Kuala_Lumpur:20251010T090000
DTEND;TZID=Asia/Kuala_Lumpur:20251012T180000
DTSTAMP:20260420T133655
CREATED:20251008T093023Z
LAST-MODIFIED:20251008T093023Z
UID:6332-1760086800-1760292000@batutalam.nadi.my
SUMMARY:E-SPORT : AWARENESS
DESCRIPTION:
URL:https://batutalam.nadi.my/event/e-sport-awareness-2/
LOCATION:NADI BATU TALAM\, PERUMAHAN BATU TALAM\, RAUB\, Pahang\, 27610\, Malaysia
END:VEVENT
BEGIN:VEVENT
DTSTART;TZID=Asia/Kuala_Lumpur:20251010T090000
DTEND;TZID=Asia/Kuala_Lumpur:20251010T180000
DTSTAMP:20260420T133655
CREATED:20251008T093556Z
LAST-MODIFIED:20251008T093556Z
UID:6344-1760086800-1760119200@batutalam.nadi.my
SUMMARY:CYBERSECURITY : WEBINAR
DESCRIPTION:
URL:https://batutalam.nadi.my/event/cybersecurity-webinar-4/
LOCATION:NADI BATU TALAM\, PERUMAHAN BATU TALAM\, RAUB\, Pahang\, 27610\, Malaysia
END:VEVENT
BEGIN:VEVENT
DTSTART;TZID=Asia/Kuala_Lumpur:20251009T090000
DTEND;TZID=Asia/Kuala_Lumpur:20251010T180000
DTSTAMP:20260420T133655
CREATED:20251008T093214Z
LAST-MODIFIED:20251008T093214Z
UID:6336-1760000400-1760119200@batutalam.nadi.my
SUMMARY:DILEA : GUIDANCE TUITION & REVISION VIDEO
DESCRIPTION:
URL:https://batutalam.nadi.my/event/dilea-guidance-tuition-revision-video/
LOCATION:NADI BATU TALAM\, PERUMAHAN BATU TALAM\, RAUB\, Pahang\, 27610\, Malaysia
END:VEVENT
BEGIN:VEVENT
DTSTART;TZID=Asia/Kuala_Lumpur:20251009T090000
DTEND;TZID=Asia/Kuala_Lumpur:20251009T180000
DTSTAMP:20260420T133655
CREATED:20251008T093524Z
LAST-MODIFIED:20251008T093524Z
UID:6342-1760000400-1760032800@batutalam.nadi.my
SUMMARY:EKLASS - MODULE 3 & 4
DESCRIPTION:
URL:https://batutalam.nadi.my/event/eklass-module-3-4/
LOCATION:NADI BATU TALAM\, PERUMAHAN BATU TALAM\, RAUB\, Pahang\, 27610\, Malaysia
END:VEVENT
BEGIN:VEVENT
DTSTART;TZID=Asia/Kuala_Lumpur:20251007T090000
DTEND;TZID=Asia/Kuala_Lumpur:20251007T180000
DTSTAMP:20260420T133655
CREATED:20251008T093442Z
LAST-MODIFIED:20251008T093442Z
UID:6340-1759827600-1759860000@batutalam.nadi.my
SUMMARY:EKLASS : MODULE 1 & 2
DESCRIPTION:
URL:https://batutalam.nadi.my/event/eklass-module-1-2/
LOCATION:NADI BATU TALAM\, PERUMAHAN BATU TALAM\, RAUB\, Pahang\, 27610\, Malaysia
END:VEVENT
BEGIN:VEVENT
DTSTART;TZID=Asia/Kuala_Lumpur:20251006T090000
DTEND;TZID=Asia/Kuala_Lumpur:20251012T180000
DTSTAMP:20260420T133655
CREATED:20251008T093128Z
LAST-MODIFIED:20251008T093128Z
UID:6334-1759741200-1760292000@batutalam.nadi.my
SUMMARY:DILEA : OPEN TUITION & ENGLISH PROFICIENCY
DESCRIPTION:
URL:https://batutalam.nadi.my/event/dilea-open-tuition-english-proficiency/
LOCATION:NADI BATU TALAM\, PERUMAHAN BATU TALAM\, RAUB\, Pahang\, 27610\, Malaysia
END:VEVENT
BEGIN:VEVENT
DTSTART;TZID=Asia/Kuala_Lumpur:20251004T090000
DTEND;TZID=Asia/Kuala_Lumpur:20251004T180000
DTSTAMP:20260420T133655
CREATED:20251008T092730Z
LAST-MODIFIED:20251008T092730Z
UID:6328-1759568400-1759600800@batutalam.nadi.my
SUMMARY:DILEA : WEBINAR
DESCRIPTION:
URL:https://batutalam.nadi.my/event/dilea-webinar/
LOCATION:NADI BATU TALAM\, PERUMAHAN BATU TALAM\, RAUB\, Pahang\, 27610\, Malaysia
END:VEVENT
BEGIN:VEVENT
DTSTART;TZID=Asia/Kuala_Lumpur:20251003T090000
DTEND;TZID=Asia/Kuala_Lumpur:20251005T180000
DTSTAMP:20260420T133655
CREATED:20251008T092313Z
LAST-MODIFIED:20251008T092313Z
UID:6324-1759482000-1759687200@batutalam.nadi.my
SUMMARY:E-SPORT : AWARENESS
DESCRIPTION:
URL:https://batutalam.nadi.my/event/e-sport-awareness/
LOCATION:NADI BATU TALAM\, PERUMAHAN BATU TALAM\, RAUB\, Pahang\, 27610\, Malaysia
END:VEVENT
BEGIN:VEVENT
DTSTART;TZID=Asia/Kuala_Lumpur:20251001T090000
DTEND;TZID=Asia/Kuala_Lumpur:20251001T180000
DTSTAMP:20260420T133655
CREATED:20251008T092440Z
LAST-MODIFIED:20251008T092440Z
UID:6326-1759309200-1759341600@batutalam.nadi.my
SUMMARY:DILEA : REVISION VIDEO 9
DESCRIPTION:
URL:https://batutalam.nadi.my/event/dilea-revision-video-9/
LOCATION:NADI BATU TALAM\, PERUMAHAN BATU TALAM\, RAUB\, Pahang\, 27610\, Malaysia
END:VEVENT
BEGIN:VEVENT
DTSTART;TZID=Asia/Kuala_Lumpur:20250927T113000
DTEND;TZID=Asia/Kuala_Lumpur:20250927T130000
DTSTAMP:20260420T133655
CREATED:20250914T075123Z
LAST-MODIFIED:20250914T075123Z
UID:6289-1758972600-1758978000@batutalam.nadi.my
SUMMARY:TINY TECHIES : Innovation Class
DESCRIPTION:
URL:https://batutalam.nadi.my/event/tiny-techies-innovation-class-2/
LOCATION:NADI BATU TALAM\, PERUMAHAN BATU TALAM\, RAUB\, Pahang\, 27610\, Malaysia
END:VEVENT
BEGIN:VEVENT
DTSTART;TZID=Asia/Kuala_Lumpur:20250927T100000
DTEND;TZID=Asia/Kuala_Lumpur:20250927T113000
DTSTAMP:20260420T133655
CREATED:20250914T075008Z
LAST-MODIFIED:20250914T075025Z
UID:6287-1758967200-1758972600@batutalam.nadi.my
SUMMARY:TINY TECHIES : Robotics Class
DESCRIPTION:
URL:https://batutalam.nadi.my/event/tiny-techies-robotics-class-2/
LOCATION:NADI BATU TALAM\, PERUMAHAN BATU TALAM\, RAUB\, Pahang\, 27610\, Malaysia
END:VEVENT
BEGIN:VEVENT
DTSTART;TZID=Asia/Kuala_Lumpur:20250925T143000
DTEND;TZID=Asia/Kuala_Lumpur:20250925T153000
DTSTAMP:20260420T133655
CREATED:20250914T075219Z
LAST-MODIFIED:20250914T075219Z
UID:6291-1758810600-1758814200@batutalam.nadi.my
SUMMARY:Webinar CYBERSECURITY
DESCRIPTION:
URL:https://batutalam.nadi.my/event/webinar-cybersecurity-2/
LOCATION:NADI BATU TALAM\, PERUMAHAN BATU TALAM\, RAUB\, Pahang\, 27610\, Malaysia
END:VEVENT
BEGIN:VEVENT
DTSTART;TZID=Asia/Kuala_Lumpur:20250923T100000
DTEND;TZID=Asia/Kuala_Lumpur:20250923T170000
DTSTAMP:20260420T133655
CREATED:20250914T074907Z
LAST-MODIFIED:20250914T074907Z
UID:6285-1758621600-1758646800@batutalam.nadi.my
SUMMARY:E-KELAS Module 3 & Module 4
DESCRIPTION:
URL:https://batutalam.nadi.my/event/e-kelas-module-3-module-4/
LOCATION:NADI BATU TALAM\, PERUMAHAN BATU TALAM\, RAUB\, Pahang\, 27610\, Malaysia
END:VEVENT
BEGIN:VEVENT
DTSTART;TZID=Asia/Kuala_Lumpur:20250923T100000
DTEND;TZID=Asia/Kuala_Lumpur:20250923T170000
DTSTAMP:20260420T133655
CREATED:20250914T074732Z
LAST-MODIFIED:20250914T074732Z
UID:6283-1758621600-1758646800@batutalam.nadi.my
SUMMARY:PODCAST NADIPRENEUR Episod 9 - Langkah Berani: Bersaing dengan Gergasi Pasaran
DESCRIPTION:
URL:https://batutalam.nadi.my/event/podcast-nadipreneur-episod-9-langkah-berani-bersaing-dengan-gergasi-pasaran/
LOCATION:NADI BATU TALAM\, PERUMAHAN BATU TALAM\, RAUB\, Pahang\, 27610\, Malaysia
END:VEVENT
BEGIN:VEVENT
DTSTART;TZID=Asia/Kuala_Lumpur:20250920T113000
DTEND;TZID=Asia/Kuala_Lumpur:20250920T130000
DTSTAMP:20260420T133655
CREATED:20250914T074505Z
LAST-MODIFIED:20250914T074505Z
UID:6279-1758367800-1758373200@batutalam.nadi.my
SUMMARY:TINY TECHIES : Innovation Class
DESCRIPTION:
URL:https://batutalam.nadi.my/event/tiny-techies-innovation-class/
LOCATION:NADI BATU TALAM\, PERUMAHAN BATU TALAM\, RAUB\, Pahang\, 27610\, Malaysia
END:VEVENT
BEGIN:VEVENT
DTSTART;TZID=Asia/Kuala_Lumpur:20250920T100000
DTEND;TZID=Asia/Kuala_Lumpur:20250920T113000
DTSTAMP:20260420T133655
CREATED:20250914T074416Z
LAST-MODIFIED:20250914T074416Z
UID:6277-1758362400-1758367800@batutalam.nadi.my
SUMMARY:TINY TECHIES : Robotics Class
DESCRIPTION:
URL:https://batutalam.nadi.my/event/tiny-techies-robotics-class/
LOCATION:NADI BATU TALAM\, PERUMAHAN BATU TALAM\, RAUB\, Pahang\, 27610\, Malaysia
END:VEVENT
BEGIN:VEVENT
DTSTART;TZID=Asia/Kuala_Lumpur:20250920T080000
DTEND;TZID=Asia/Kuala_Lumpur:20250920T170000
DTSTAMP:20260420T133655
CREATED:20250914T074247Z
LAST-MODIFIED:20250914T074247Z
UID:6275-1758355200-1758387600@batutalam.nadi.my
SUMMARY:COHORT 6 KIDVENTURE WEBINAR - OPERASI PERNIAGAAN
DESCRIPTION:
URL:https://batutalam.nadi.my/event/cohort-6-kidventure-webinar-operasi-perniagaan/
LOCATION:NADI BATU TALAM\, PERUMAHAN BATU TALAM\, RAUB\, Pahang\, 27610\, Malaysia
END:VEVENT
BEGIN:VEVENT
DTSTART;TZID=Asia/Kuala_Lumpur:20250919T100000
DTEND;TZID=Asia/Kuala_Lumpur:20250919T110000
DTSTAMP:20260420T133655
CREATED:20250914T074201Z
LAST-MODIFIED:20250914T074201Z
UID:6273-1758276000-1758279600@batutalam.nadi.my
SUMMARY:PODCAST EMPOWHER Episod 9 - Bual Kombucha: Inspirasi di Sebalik Rasa
DESCRIPTION:
URL:https://batutalam.nadi.my/event/podcast-empowher-episod-9-bual-kombucha-inspirasi-di-sebalik-rasa/
LOCATION:NADI BATU TALAM\, PERUMAHAN BATU TALAM\, RAUB\, Pahang\, 27610\, Malaysia
END:VEVENT
BEGIN:VEVENT
DTSTART;TZID=Asia/Kuala_Lumpur:20250918T143000
DTEND;TZID=Asia/Kuala_Lumpur:20250918T153000
DTSTAMP:20260420T133655
CREATED:20250914T074617Z
LAST-MODIFIED:20250914T074617Z
UID:6281-1758205800-1758209400@batutalam.nadi.my
SUMMARY:WEBINAR CYBERSECURITY
DESCRIPTION:
URL:https://batutalam.nadi.my/event/webinar-cybersecurity/
LOCATION:NADI BATU TALAM\, PERUMAHAN BATU TALAM\, RAUB\, Pahang\, 27610\, Malaysia
END:VEVENT
BEGIN:VEVENT
DTSTART;TZID=Asia/Kuala_Lumpur:20250917T093000
DTEND;TZID=Asia/Kuala_Lumpur:20250917T113000
DTSTAMP:20260420T133655
CREATED:20250914T074004Z
LAST-MODIFIED:20250914T074004Z
UID:6271-1758101400-1758108600@batutalam.nadi.my
SUMMARY:KEMPEN INTERNET SELAMAT - LOVE SCAM (7-12 & 13+)
DESCRIPTION:
URL:https://batutalam.nadi.my/event/kempen-internet-selamat-love-scam-7-12-13/
LOCATION:NADI BATU TALAM\, PERUMAHAN BATU TALAM\, RAUB\, Pahang\, 27610\, Malaysia
END:VEVENT
BEGIN:VEVENT
DTSTART;TZID=Asia/Kuala_Lumpur:20250907T090000
DTEND;TZID=Asia/Kuala_Lumpur:20250907T113000
DTSTAMP:20260420T133655
CREATED:20250910T100602Z
LAST-MODIFIED:20250910T100602Z
UID:6265-1757235600-1757244600@batutalam.nadi.my
SUMMARY:AWARENESS
DESCRIPTION:
URL:https://batutalam.nadi.my/event/awareness-2/
LOCATION:NADI BATU TALAM\, PERUMAHAN BATU TALAM\, RAUB\, Pahang\, 27610\, Malaysia
END:VEVENT
BEGIN:VEVENT
DTSTART;TZID=Asia/Kuala_Lumpur:20250906T110000
DTEND;TZID=Asia/Kuala_Lumpur:20250906T120000
DTSTAMP:20260420T133655
CREATED:20250910T100706Z
LAST-MODIFIED:20250910T100835Z
UID:6267-1757156400-1757160000@batutalam.nadi.my
SUMMARY:GOVERNMENT INISIATIVE
DESCRIPTION:
URL:https://batutalam.nadi.my/event/government-inisiatif/
LOCATION:NADI BATU TALAM\, PERUMAHAN BATU TALAM\, RAUB\, Pahang\, 27610\, Malaysia
END:VEVENT
BEGIN:VEVENT
DTSTART;TZID=Asia/Kuala_Lumpur:20250906T090000
DTEND;TZID=Asia/Kuala_Lumpur:20250906T180000
DTSTAMP:20260420T133655
CREATED:20250910T092521Z
LAST-MODIFIED:20250910T092521Z
UID:6259-1757149200-1757181600@batutalam.nadi.my
SUMMARY:COHORT 5 KIDVENTURE WEBINAR - PEMASARAN
DESCRIPTION:
URL:https://batutalam.nadi.my/event/cohort-5-kidventure-webinar-pemasaran/
LOCATION:NADI BATU TALAM\, PERUMAHAN BATU TALAM\, RAUB\, Pahang\, 27610\, Malaysia
END:VEVENT
END:VCALENDAR