BEGIN:VCALENDAR
VERSION:2.0
PRODID:-//NADI Batu Talam - ECPv6.15.20//NONSGML v1.0//EN
CALSCALE:GREGORIAN
METHOD:PUBLISH
X-WR-CALNAME:NADI Batu Talam
X-ORIGINAL-URL:https://batutalam.nadi.my
X-WR-CALDESC:Events for NADI Batu Talam
REFRESH-INTERVAL;VALUE=DURATION:PT1H
X-Robots-Tag:noindex
X-PUBLISHED-TTL:PT1H
BEGIN:VTIMEZONE
TZID:UTC
BEGIN:STANDARD
TZOFFSETFROM:+0000
TZOFFSETTO:+0000
TZNAME:UTC
DTSTART:20240101T000000
END:STANDARD
END:VTIMEZONE
BEGIN:VTIMEZONE
TZID:UTC
BEGIN:STANDARD
TZOFFSETFROM:+0000
TZOFFSETTO:+0000
TZNAME:UTC
DTSTART:20230101T000000
END:STANDARD
END:VTIMEZONE
BEGIN:VEVENT
DTSTART;TZID=UTC:20250124T153000
DTEND;TZID=UTC:20250124T173000
DTSTAMP:20260426T114028
CREATED:20250105T194053Z
LAST-MODIFIED:20250105T194642Z
UID:5180-1737732600-1737739800@batutalam.nadi.my
SUMMARY:ICT
DESCRIPTION:
URL:https://batutalam.nadi.my/event/ict-2/
LOCATION:NADI BATU TALAM\, PERUMAHAN BATU TALAM\, RAUB\, Pahang\, 27610\, Malaysia
CATEGORIES:DEFAULT
END:VEVENT
BEGIN:VEVENT
DTSTART;TZID=UTC:20250119T100000
DTEND;TZID=UTC:20250119T120000
DTSTAMP:20260426T114028
CREATED:20250105T194006Z
LAST-MODIFIED:20250105T194647Z
UID:5178-1737280800-1737288000@batutalam.nadi.my
SUMMARY:STEM/IOT
DESCRIPTION:
URL:https://batutalam.nadi.my/event/stem-iot-33/
LOCATION:NADI BATU TALAM\, PERUMAHAN BATU TALAM\, RAUB\, Pahang\, 27610\, Malaysia
CATEGORIES:DEFAULT
END:VEVENT
BEGIN:VEVENT
DTSTART;TZID=UTC:20250118T100000
DTEND;TZID=UTC:20250118T120000
DTSTAMP:20260426T114028
CREATED:20250105T193903Z
LAST-MODIFIED:20250105T194652Z
UID:5176-1737194400-1737201600@batutalam.nadi.my
SUMMARY:KEUSAHAWANAN
DESCRIPTION:
URL:https://batutalam.nadi.my/event/keusahawanan-29/
LOCATION:NADI BATU TALAM\, PERUMAHAN BATU TALAM\, RAUB\, Pahang\, 27610\, Malaysia
CATEGORIES:DEFAULT
END:VEVENT
BEGIN:VEVENT
DTSTART;TZID=UTC:20250110T153000
DTEND;TZID=UTC:20250110T173000
DTSTAMP:20260426T114028
CREATED:20250105T193606Z
LAST-MODIFIED:20250105T194658Z
UID:5171-1736523000-1736530200@batutalam.nadi.my
SUMMARY:ICT
DESCRIPTION:
URL:https://batutalam.nadi.my/event/ict/
LOCATION:NADI BATU TALAM\, PERUMAHAN BATU TALAM\, RAUB\, Pahang\, 27610\, Malaysia
CATEGORIES:DEFAULT
END:VEVENT
BEGIN:VEVENT
DTSTART;TZID=UTC:20250109T150000
DTEND;TZID=UTC:20250109T170000
DTSTAMP:20260426T114028
CREATED:20250105T193416Z
LAST-MODIFIED:20250105T194710Z
UID:5169-1736434800-1736442000@batutalam.nadi.my
SUMMARY:E-LEARNING
DESCRIPTION:
URL:https://batutalam.nadi.my/event/e-learning-81/
LOCATION:NADI BATU TALAM\, PERUMAHAN BATU TALAM\, RAUB\, Pahang\, 27610\, Malaysia
CATEGORIES:DEFAULT
END:VEVENT
BEGIN:VEVENT
DTSTART;TZID=UTC:20241027T100000
DTEND;TZID=UTC:20241027T120000
DTSTAMP:20260426T114028
CREATED:20241007T014031Z
LAST-MODIFIED:20241007T014031Z
UID:5080-1730023200-1730030400@batutalam.nadi.my
SUMMARY:STEM-IOT
DESCRIPTION:
URL:https://batutalam.nadi.my/event/stem-iot-32/
LOCATION:Pahang
CATEGORIES:DEFAULT
END:VEVENT
BEGIN:VEVENT
DTSTART;TZID=UTC:20241026T100000
DTEND;TZID=UTC:20241026T120000
DTSTAMP:20260426T114028
CREATED:20241007T014012Z
LAST-MODIFIED:20241007T014012Z
UID:5079-1729936800-1729944000@batutalam.nadi.my
SUMMARY:KEUSAHAWANAN
DESCRIPTION:
URL:https://batutalam.nadi.my/event/keusahawanan-28/
LOCATION:Pahang
CATEGORIES:DEFAULT
END:VEVENT
BEGIN:VEVENT
DTSTART;TZID=UTC:20241025T150000
DTEND;TZID=UTC:20241025T170000
DTSTAMP:20260426T114028
CREATED:20241007T013952Z
LAST-MODIFIED:20241007T013952Z
UID:5078-1729868400-1729875600@batutalam.nadi.my
SUMMARY:BASIC ENTREPRENEURS
DESCRIPTION:
URL:https://batutalam.nadi.my/event/basic-entrepreneurs-16/
LOCATION:Pahang
CATEGORIES:DEFAULT
END:VEVENT
BEGIN:VEVENT
DTSTART;TZID=UTC:20241020T100000
DTEND;TZID=UTC:20241020T120000
DTSTAMP:20260426T114028
CREATED:20241007T013927Z
LAST-MODIFIED:20241007T013927Z
UID:5077-1729418400-1729425600@batutalam.nadi.my
SUMMARY:STEM-IOT
DESCRIPTION:
URL:https://batutalam.nadi.my/event/stem-iot-31/
LOCATION:Pahang
CATEGORIES:DEFAULT
END:VEVENT
BEGIN:VEVENT
DTSTART;TZID=UTC:20241019T100000
DTEND;TZID=UTC:20241019T120000
DTSTAMP:20260426T114028
CREATED:20241007T013907Z
LAST-MODIFIED:20241007T013907Z
UID:5076-1729332000-1729339200@batutalam.nadi.my
SUMMARY:KEUSAHAWANAN
DESCRIPTION:
URL:https://batutalam.nadi.my/event/keusahawanan-27/
LOCATION:Pahang
CATEGORIES:DEFAULT
END:VEVENT
BEGIN:VEVENT
DTSTART;TZID=UTC:20241018T150000
DTEND;TZID=UTC:20241018T170000
DTSTAMP:20260426T114028
CREATED:20241007T013847Z
LAST-MODIFIED:20241007T013847Z
UID:5075-1729263600-1729270800@batutalam.nadi.my
SUMMARY:SOFT SKILLS
DESCRIPTION:
URL:https://batutalam.nadi.my/event/soft-skills-26/
LOCATION:Pahang
CATEGORIES:DEFAULT
END:VEVENT
BEGIN:VEVENT
DTSTART;TZID=UTC:20241011T150000
DTEND;TZID=UTC:20241011T170000
DTSTAMP:20260426T114028
CREATED:20241007T013826Z
LAST-MODIFIED:20241007T013826Z
UID:5074-1728658800-1728666000@batutalam.nadi.my
SUMMARY:E-LEARNING
DESCRIPTION:
URL:https://batutalam.nadi.my/event/e-learning-80/
LOCATION:Pahang
CATEGORIES:DEFAULT
END:VEVENT
BEGIN:VEVENT
DTSTART;TZID=UTC:20241010T150000
DTEND;TZID=UTC:20241010T170000
DTSTAMP:20260426T114028
CREATED:20241007T013758Z
LAST-MODIFIED:20241007T013758Z
UID:5073-1728572400-1728579600@batutalam.nadi.my
SUMMARY:BASIC ICT
DESCRIPTION:
URL:https://batutalam.nadi.my/event/basic-ict-29/
LOCATION:Pahang
CATEGORIES:DEFAULT
END:VEVENT
BEGIN:VEVENT
DTSTART;TZID=UTC:20241004T150000
DTEND;TZID=UTC:20241004T170000
DTSTAMP:20260426T114028
CREATED:20241007T013719Z
LAST-MODIFIED:20241007T013719Z
UID:5072-1728054000-1728061200@batutalam.nadi.my
SUMMARY:BASIC ICT
DESCRIPTION:
URL:https://batutalam.nadi.my/event/basic-ict-28/
LOCATION:Pahang
CATEGORIES:DEFAULT
END:VEVENT
BEGIN:VEVENT
DTSTART;TZID=UTC:20240929T100000
DTEND;TZID=UTC:20240929T120000
DTSTAMP:20260426T114028
CREATED:20240907T022903Z
LAST-MODIFIED:20240907T022903Z
UID:5071-1727604000-1727611200@batutalam.nadi.my
SUMMARY:STEM-IOT
DESCRIPTION:
URL:https://batutalam.nadi.my/event/stem-iot-30/
LOCATION:Pahang
CATEGORIES:DEFAULT
END:VEVENT
BEGIN:VEVENT
DTSTART;TZID=UTC:20240928T100000
DTEND;TZID=UTC:20240928T120000
DTSTAMP:20260426T114028
CREATED:20240907T022838Z
LAST-MODIFIED:20240907T022838Z
UID:5070-1727517600-1727524800@batutalam.nadi.my
SUMMARY:KEUSAHAWANAN
DESCRIPTION:
URL:https://batutalam.nadi.my/event/keusahawanan-26/
LOCATION:Pahang
CATEGORIES:DEFAULT
END:VEVENT
BEGIN:VEVENT
DTSTART;TZID=UTC:20240927T150000
DTEND;TZID=UTC:20240927T170000
DTSTAMP:20260426T114028
CREATED:20240907T022823Z
LAST-MODIFIED:20240907T022823Z
UID:5069-1727449200-1727456400@batutalam.nadi.my
SUMMARY:BASIC ENTREPRENEURS
DESCRIPTION:
URL:https://batutalam.nadi.my/event/basic-entrepreneurs-15/
LOCATION:Pahang
CATEGORIES:DEFAULT
END:VEVENT
BEGIN:VEVENT
DTSTART;TZID=UTC:20240922T100000
DTEND;TZID=UTC:20240922T120000
DTSTAMP:20260426T114028
CREATED:20240907T022807Z
LAST-MODIFIED:20240907T022807Z
UID:5068-1726999200-1727006400@batutalam.nadi.my
SUMMARY:STEM-IOT
DESCRIPTION:
URL:https://batutalam.nadi.my/event/stem-iot-29/
LOCATION:Pahang
CATEGORIES:DEFAULT
END:VEVENT
BEGIN:VEVENT
DTSTART;TZID=UTC:20240921T100000
DTEND;TZID=UTC:20240921T120000
DTSTAMP:20260426T114028
CREATED:20240907T022746Z
LAST-MODIFIED:20240907T022746Z
UID:5067-1726912800-1726920000@batutalam.nadi.my
SUMMARY:KEUSAHAWANAN
DESCRIPTION:
URL:https://batutalam.nadi.my/event/keusahawanan-25/
LOCATION:Pahang
CATEGORIES:DEFAULT
END:VEVENT
BEGIN:VEVENT
DTSTART;TZID=UTC:20240920T150000
DTEND;TZID=UTC:20240920T170000
DTSTAMP:20260426T114028
CREATED:20240907T022723Z
LAST-MODIFIED:20240907T022723Z
UID:5066-1726844400-1726851600@batutalam.nadi.my
SUMMARY:BASIC ICT
DESCRIPTION:
URL:https://batutalam.nadi.my/event/basic-ict-27/
LOCATION:Pahang
CATEGORIES:DEFAULT
END:VEVENT
BEGIN:VEVENT
DTSTART;TZID=UTC:20240913T150000
DTEND;TZID=UTC:20240913T170000
DTSTAMP:20260426T114028
CREATED:20240907T022605Z
LAST-MODIFIED:20240907T022605Z
UID:5065-1726239600-1726246800@batutalam.nadi.my
SUMMARY:SOFT SKILLS
DESCRIPTION:
URL:https://batutalam.nadi.my/event/soft-skills-25/
LOCATION:Pahang
CATEGORIES:DEFAULT
END:VEVENT
BEGIN:VEVENT
DTSTART;TZID=UTC:20240912T150000
DTEND;TZID=UTC:20240912T170000
DTSTAMP:20260426T114028
CREATED:20240907T022549Z
LAST-MODIFIED:20240907T022549Z
UID:5064-1726153200-1726160400@batutalam.nadi.my
SUMMARY:E-LEARNING
DESCRIPTION:
URL:https://batutalam.nadi.my/event/e-learning-79/
LOCATION:Pahang
CATEGORIES:DEFAULT
END:VEVENT
BEGIN:VEVENT
DTSTART;TZID=UTC:20240906T150000
DTEND;TZID=UTC:20240906T170000
DTSTAMP:20260426T114028
CREATED:20240907T022534Z
LAST-MODIFIED:20240907T022534Z
UID:4639-1725634800-1725642000@batutalam.nadi.my
SUMMARY:E-LEARNING
DESCRIPTION:
URL:https://batutalam.nadi.my/event/e-learning-62/
LOCATION:Pahang
CATEGORIES:DEFAULT
END:VEVENT
BEGIN:VEVENT
DTSTART;TZID=UTC:20240906T150000
DTEND;TZID=UTC:20240906T170000
DTSTAMP:20260426T114028
CREATED:20240907T022534Z
LAST-MODIFIED:20240907T022534Z
UID:5063-1725634800-1725642000@batutalam.nadi.my
SUMMARY:E-LEARNING
DESCRIPTION:
URL:https://batutalam.nadi.my/event/e-learning-78/
LOCATION:Pahang
CATEGORIES:DEFAULT
END:VEVENT
BEGIN:VEVENT
DTSTART;TZID=UTC:20240831T100000
DTEND;TZID=UTC:20240831T120000
DTSTAMP:20260426T114028
CREATED:20240805T023235Z
LAST-MODIFIED:20240805T023235Z
UID:4638-1725098400-1725105600@batutalam.nadi.my
SUMMARY:SOFT SKILLS
DESCRIPTION:
URL:https://batutalam.nadi.my/event/soft-skills-12/
LOCATION:Pahang
CATEGORIES:DEFAULT
END:VEVENT
BEGIN:VEVENT
DTSTART;TZID=UTC:20240831T100000
DTEND;TZID=UTC:20240831T120000
DTSTAMP:20260426T114028
CREATED:20240805T023235Z
LAST-MODIFIED:20240805T023235Z
UID:5061-1725098400-1725105600@batutalam.nadi.my
SUMMARY:SOFT SKILLS
DESCRIPTION:
URL:https://batutalam.nadi.my/event/soft-skills-23/
LOCATION:Pahang
CATEGORIES:DEFAULT
END:VEVENT
BEGIN:VEVENT
DTSTART;TZID=UTC:20240831T100000
DTEND;TZID=UTC:20240831T120000
DTSTAMP:20260426T114028
CREATED:20240805T023235Z
LAST-MODIFIED:20240805T023235Z
UID:5062-1725098400-1725105600@batutalam.nadi.my
SUMMARY:SOFT SKILLS
DESCRIPTION:
URL:https://batutalam.nadi.my/event/soft-skills-24/
LOCATION:Pahang
CATEGORIES:DEFAULT
END:VEVENT
BEGIN:VEVENT
DTSTART;TZID=UTC:20240831T100000
DTEND;TZID=UTC:20240831T120000
DTSTAMP:20260426T114028
CREATED:20240805T023235Z
LAST-MODIFIED:20240805T023235Z
UID:4637-1725098400-1725105600@batutalam.nadi.my
SUMMARY:SOFT SKILLS
DESCRIPTION:
URL:https://batutalam.nadi.my/event/soft-skills-11/
LOCATION:Pahang
CATEGORIES:DEFAULT
END:VEVENT
BEGIN:VEVENT
DTSTART;TZID=UTC:20240830T150000
DTEND;TZID=UTC:20240830T170000
DTSTAMP:20260426T114028
CREATED:20240805T023211Z
LAST-MODIFIED:20240805T023211Z
UID:5060-1725030000-1725037200@batutalam.nadi.my
SUMMARY:E-LEARNING
DESCRIPTION:
URL:https://batutalam.nadi.my/event/e-learning-77/
LOCATION:Pahang
CATEGORIES:DEFAULT
END:VEVENT
BEGIN:VEVENT
DTSTART;TZID=UTC:20240830T150000
DTEND;TZID=UTC:20240830T170000
DTSTAMP:20260426T114028
CREATED:20240805T023211Z
LAST-MODIFIED:20240805T023211Z
UID:4636-1725030000-1725037200@batutalam.nadi.my
SUMMARY:E-LEARNING
DESCRIPTION:
URL:https://batutalam.nadi.my/event/e-learning-61/
LOCATION:Pahang
CATEGORIES:DEFAULT
END:VEVENT
END:VCALENDAR