BEGIN:VCALENDAR
VERSION:2.0
PRODID:-//NADI Batu Talam - ECPv6.15.20//NONSGML v1.0//EN
CALSCALE:GREGORIAN
METHOD:PUBLISH
X-WR-CALNAME:NADI Batu Talam
X-ORIGINAL-URL:https://batutalam.nadi.my
X-WR-CALDESC:Events for NADI Batu Talam
REFRESH-INTERVAL;VALUE=DURATION:PT1H
X-Robots-Tag:noindex
X-PUBLISHED-TTL:PT1H
BEGIN:VTIMEZONE
TZID:Asia/Kuala_Lumpur
BEGIN:STANDARD
TZOFFSETFROM:+0800
TZOFFSETTO:+0800
TZNAME:+08
DTSTART:20240101T000000
END:STANDARD
END:VTIMEZONE
BEGIN:VEVENT
DTSTART;TZID=Asia/Kuala_Lumpur:20250509T030000
DTEND;TZID=Asia/Kuala_Lumpur:20250509T170000
DTSTAMP:20260423T202557
CREATED:20250507T011918Z
LAST-MODIFIED:20250507T011918Z
UID:5653-1746759600-1746810000@batutalam.nadi.my
SUMMARY:SOFT SKILLS
DESCRIPTION:
URL:https://batutalam.nadi.my/event/soft-skills-30/
LOCATION:Pahang
ORGANIZER;CN="NADI Batu Talam":MAILTO:nadibatutalam@gmail.com
END:VEVENT
END:VCALENDAR